BEGIN:VCALENDAR
VERSION:2.0
PRODID:-//Oregon Academy of Family Physicians - ECPv6.15.20//NONSGML v1.0//EN
CALSCALE:GREGORIAN
METHOD:PUBLISH
X-WR-CALNAME:Oregon Academy of Family Physicians
X-ORIGINAL-URL:https://oafp.org
X-WR-CALDESC:Events for Oregon Academy of Family Physicians
REFRESH-INTERVAL;VALUE=DURATION:PT1H
X-Robots-Tag:noindex
X-PUBLISHED-TTL:PT1H
BEGIN:VTIMEZONE
TZID:America/Los_Angeles
BEGIN:DAYLIGHT
TZOFFSETFROM:-0800
TZOFFSETTO:-0700
TZNAME:PDT
DTSTART:20230312T100000
END:DAYLIGHT
BEGIN:STANDARD
TZOFFSETFROM:-0700
TZOFFSETTO:-0800
TZNAME:PST
DTSTART:20231105T090000
END:STANDARD
BEGIN:DAYLIGHT
TZOFFSETFROM:-0800
TZOFFSETTO:-0700
TZNAME:PDT
DTSTART:20240310T100000
END:DAYLIGHT
BEGIN:STANDARD
TZOFFSETFROM:-0700
TZOFFSETTO:-0800
TZNAME:PST
DTSTART:20241103T090000
END:STANDARD
BEGIN:DAYLIGHT
TZOFFSETFROM:-0800
TZOFFSETTO:-0700
TZNAME:PDT
DTSTART:20250309T100000
END:DAYLIGHT
BEGIN:STANDARD
TZOFFSETFROM:-0700
TZOFFSETTO:-0800
TZNAME:PST
DTSTART:20251102T090000
END:STANDARD
END:VTIMEZONE
BEGIN:VEVENT
DTSTART;TZID=America/Los_Angeles:20241023T070000
DTEND;TZID=America/Los_Angeles:20241023T083000
DTSTAMP:20260424T080203
CREATED:20240926T221925Z
LAST-MODIFIED:20240926T221925Z
UID:10494-1729666800-1729672200@oafp.org
SUMMARY:Step into My Office: How to Host a Legislator at Your Clinic (Webinar)
DESCRIPTION:Oregon’s 2025 legislature will include a lot of new faces. They need to know how essential family medicine is to Oregonians. \nAll members who want to learn how to host a legislator visit at their clinic should register for this webinar with our Commission on External Affairs on October 23 from 7:00-8:15. \nWe’ll walk you through planning the visit\, outreach and coordination with legislative staff\, and provide you with support so you have everything you need to start building relationships with your elected leaders. \nThe period between the election and the start of the 2025 legislative session is a great time for this kind of outreach. \nThis event will be recorded. \nRegistration link coming soon! \n  \n 
URL:https://oafp.org/event/step-into-my-office-how-to-host-a-legislator-at-your-clinic-webinar/
END:VEVENT
END:VCALENDAR