BEGIN:VCALENDAR
VERSION:2.0
PRODID:-//Oregon Academy of Family Physicians - ECPv6.15.20//NONSGML v1.0//EN
CALSCALE:GREGORIAN
METHOD:PUBLISH
X-ORIGINAL-URL:https://oafp.org
X-WR-CALDESC:Events for Oregon Academy of Family Physicians
REFRESH-INTERVAL;VALUE=DURATION:PT1H
X-Robots-Tag:noindex
X-PUBLISHED-TTL:PT1H
BEGIN:VTIMEZONE
TZID:America/Los_Angeles
BEGIN:DAYLIGHT
TZOFFSETFROM:-0800
TZOFFSETTO:-0700
TZNAME:PDT
DTSTART:20210314T100000
END:DAYLIGHT
BEGIN:STANDARD
TZOFFSETFROM:-0700
TZOFFSETTO:-0800
TZNAME:PST
DTSTART:20211107T090000
END:STANDARD
BEGIN:DAYLIGHT
TZOFFSETFROM:-0800
TZOFFSETTO:-0700
TZNAME:PDT
DTSTART:20220313T100000
END:DAYLIGHT
BEGIN:STANDARD
TZOFFSETFROM:-0700
TZOFFSETTO:-0800
TZNAME:PST
DTSTART:20221106T090000
END:STANDARD
BEGIN:DAYLIGHT
TZOFFSETFROM:-0800
TZOFFSETTO:-0700
TZNAME:PDT
DTSTART:20230312T100000
END:DAYLIGHT
BEGIN:STANDARD
TZOFFSETFROM:-0700
TZOFFSETTO:-0800
TZNAME:PST
DTSTART:20231105T090000
END:STANDARD
END:VTIMEZONE
BEGIN:VEVENT
DTSTART;TZID=America/Los_Angeles:20221209T000000
DTEND;TZID=America/Los_Angeles:20221211T000000
DTSTAMP:20260423T153056
CREATED:20220913T181424Z
LAST-MODIFIED:20220913T181424Z
UID:5351-1670544000-1670716800@oafp.org
SUMMARY:Hybrid - Florida AFP Family Medicine Winter Summit
DESCRIPTION:
URL:https://oafp.org/event/hybrid-florida-afp-family-medicine-winter-summit/
CATEGORIES:CME
END:VEVENT
BEGIN:VEVENT
DTSTART;TZID=America/Los_Angeles:20221205T000000
DTEND;TZID=America/Los_Angeles:20221208T000000
DTSTAMP:20260423T153056
CREATED:20220913T181424Z
LAST-MODIFIED:20220913T181424Z
UID:5350-1670198400-1670457600@oafp.org
SUMMARY:Hybrid - American Medical Seminars - Primary Care: Family Medicine\, Sports Medicine\, and Geriatrics – A Practical Approach
DESCRIPTION:20 CME
URL:https://oafp.org/event/hybrid-american-medical-seminars-primary-care-family-medicine-sports-medicine-and-geriatrics-a-practical-approach/
CATEGORIES:CME
END:VEVENT
BEGIN:VEVENT
DTSTART;TZID=America/Los_Angeles:20221201T000000
DTEND;TZID=America/Los_Angeles:20221204T000000
DTSTAMP:20260423T153056
CREATED:20220913T181423Z
LAST-MODIFIED:20220913T181423Z
UID:5349-1669852800-1670112000@oafp.org
SUMMARY:2022 North Carolina AFP Winter Family Physicians Weekend
DESCRIPTION:25+ CME
URL:https://oafp.org/event/2022-north-carolina-afp-winter-family-physicians-weekend/
CATEGORIES:CME
END:VEVENT
BEGIN:VEVENT
DTSTART;VALUE=DATE:20221130
DTEND;VALUE=DATE:20221201
DTSTAMP:20260423T153056
CREATED:20221003T185632Z
LAST-MODIFIED:20221012T010730Z
UID:5540-1669766400-1669852799@oafp.org
SUMMARY:Virtual Cheese Tasting with Rogue Creamery
DESCRIPTION:
URL:https://oafp.org/event/virtual-cheese-tasting-event/
LOCATION:Virtual
CATEGORIES:OAFP Foundation Events
ORGANIZER;CN="OAFP":MAILTO:mail@oafp.org
END:VEVENT
BEGIN:VEVENT
DTSTART;TZID=America/Los_Angeles:20221112T093000
DTEND;TZID=America/Los_Angeles:20221112T130000
DTSTAMP:20260423T153056
CREATED:20221003T190059Z
LAST-MODIFIED:20221012T010458Z
UID:5542-1668245400-1668258000@oafp.org
SUMMARY:OAFP KSA Study Hall: Heart Disease
DESCRIPTION:
URL:https://oafp.org/event/oafp-ksa-study-hall-heart-disease/
LOCATION:Encorepreneur Cafe\, 1548 NE 15th Ave\, Portland\, OR\, 97232\, United States
CATEGORIES:OAFP Events
ORGANIZER;CN="OAFP":MAILTO:mail@oafp.org
END:VEVENT
BEGIN:VEVENT
DTSTART;TZID=America/Los_Angeles:20221111T000000
DTEND;TZID=America/Los_Angeles:20221112T000000
DTSTAMP:20260423T153056
CREATED:20220913T181410Z
LAST-MODIFIED:20220913T181410Z
UID:5348-1668124800-1668211200@oafp.org
SUMMARY:2022 Missouri Academy of Family Physician
DESCRIPTION:
URL:https://oafp.org/event/2022-missouri-academy-of-family-physician/
CATEGORIES:CME
END:VEVENT
BEGIN:VEVENT
DTSTART;TZID=America/Los_Angeles:20221110T000000
DTEND;TZID=America/Los_Angeles:20221112T000000
DTSTAMP:20260423T153056
CREATED:20220913T181409Z
LAST-MODIFIED:20220913T181409Z
UID:5347-1668038400-1668211200@oafp.org
SUMMARY:2022 Georgia Annual Family Medicine CME Weekend
DESCRIPTION:
URL:https://oafp.org/event/2022-georgia-annual-family-medicine-cme-weekend/
CATEGORIES:CME
END:VEVENT
BEGIN:VEVENT
DTSTART;TZID=America/Los_Angeles:20221110T000000
DTEND;TZID=America/Los_Angeles:20221111T000000
DTSTAMP:20260423T153056
CREATED:20220913T181409Z
LAST-MODIFIED:20220913T181409Z
UID:5346-1668038400-1668124800@oafp.org
SUMMARY:Cleveland Clinic 10th Annual Primary Care Update
DESCRIPTION:10.5 CME
URL:https://oafp.org/event/cleveland-clinic-10th-annual-primary-care-update/
CATEGORIES:CME
END:VEVENT
BEGIN:VEVENT
DTSTART;TZID=America/Los_Angeles:20221107T000000
DTEND;TZID=America/Los_Angeles:20221109T000000
DTSTAMP:20260423T153056
CREATED:20220913T181408Z
LAST-MODIFIED:20220913T181408Z
UID:5345-1667779200-1667952000@oafp.org
SUMMARY:Hybrid - Mayo Clinic 96th Annual Clinical Reviews
DESCRIPTION:19 CME
URL:https://oafp.org/event/hybrid-mayo-clinic-96th-annual-clinical-reviews/
CATEGORIES:CME
END:VEVENT
BEGIN:VEVENT
DTSTART;TZID=America/Los_Angeles:20221028T000000
DTEND;TZID=America/Los_Angeles:20221030T000000
DTSTAMP:20260423T153056
CREATED:20220913T181408Z
LAST-MODIFIED:20220913T181408Z
UID:5344-1666915200-1667088000@oafp.org
SUMMARY:2022 Mississippi AFP Conference
DESCRIPTION:
URL:https://oafp.org/event/2022-mississippi-afp-conference/
CATEGORIES:CME
END:VEVENT
BEGIN:VEVENT
DTSTART;TZID=America/Los_Angeles:20221028T000000
DTEND;TZID=America/Los_Angeles:20221030T000000
DTSTAMP:20260423T153056
CREATED:20220913T181406Z
LAST-MODIFIED:20220913T181406Z
UID:5343-1666915200-1667088000@oafp.org
SUMMARY:2022 Texas AFP Annual Session and Primary Care Summit
DESCRIPTION:18.5 CME
URL:https://oafp.org/event/2022-texas-afp-annual-session-and-primary-care-summit/
CATEGORIES:CME
END:VEVENT
BEGIN:VEVENT
DTSTART;TZID=America/Los_Angeles:20221027T000000
DTEND;TZID=America/Los_Angeles:20221029T000000
DTSTAMP:20260423T153056
CREATED:20220913T181405Z
LAST-MODIFIED:20220913T181405Z
UID:5342-1666828800-1667001600@oafp.org
SUMMARY:2022 Iowa AFP Annual Conference
DESCRIPTION:13.5 CME
URL:https://oafp.org/event/2022-iowa-afp-annual-conference/
CATEGORIES:CME
END:VEVENT
BEGIN:VEVENT
DTSTART;TZID=America/Los_Angeles:20221017T000000
DTEND;TZID=America/Los_Angeles:20221021T000000
DTSTAMP:20260423T153056
CREATED:20220913T181404Z
LAST-MODIFIED:20220913T181404Z
UID:5341-1665964800-1666310400@oafp.org
SUMMARY:Harvard Online PRIMARY CARE Internal Medicine
DESCRIPTION:44 CME
URL:https://oafp.org/event/harvard-online-primary-care-internal-medicine/
CATEGORIES:CME
END:VEVENT
BEGIN:VEVENT
DTSTART;TZID=America/Los_Angeles:20221015T163000
DTEND;TZID=America/Los_Angeles:20221015T183000
DTSTAMP:20260423T153056
CREATED:20221003T185403Z
LAST-MODIFIED:20221012T010755Z
UID:5534-1665851400-1665858600@oafp.org
SUMMARY:October Board Meeting
DESCRIPTION:
URL:https://oafp.org/event/board-meeting/
LOCATION:Best Western Plus Hood River Inn\, 1108 E Marina Dr\, Hood River\, OR\, 97031\, United States
CATEGORIES:OAFP Events
ORGANIZER;CN="OAFP":MAILTO:mail@oafp.org
END:VEVENT
BEGIN:VEVENT
DTSTART;TZID=America/Los_Angeles:20221015T000000
DTEND;TZID=America/Los_Angeles:20221016T000000
DTSTAMP:20260423T153056
CREATED:20220913T181403Z
LAST-MODIFIED:20220913T181403Z
UID:5339-1665792000-1665878400@oafp.org
SUMMARY:Kansas AFP 27th Annual Fall Conference and Family Weekend
DESCRIPTION:
URL:https://oafp.org/event/kansas-afp-27th-annual-fall-conference-and-family-weekend/
CATEGORIES:CME
END:VEVENT
BEGIN:VEVENT
DTSTART;TZID=America/Los_Angeles:20221015T000000
DTEND;TZID=America/Los_Angeles:20221015T000000
DTSTAMP:20260423T153056
CREATED:20220913T181404Z
LAST-MODIFIED:20220913T181404Z
UID:5340-1665792000-1665792000@oafp.org
SUMMARY:Arizona AFP ACE Conference 2022 VIRTUAL
DESCRIPTION:
URL:https://oafp.org/event/arizona-afp-ace-conference-2022-virtual/
CATEGORIES:CME
END:VEVENT
BEGIN:VEVENT
DTSTART;TZID=America/Los_Angeles:20221013T080000
DTEND;TZID=America/Los_Angeles:20221016T170000
DTSTAMP:20260423T153056
CREATED:20220912T234605Z
LAST-MODIFIED:20220913T174948Z
UID:5305-1665648000-1665939600@oafp.org
SUMMARY:24th Annual Mayo Clinic Internal Medicine Update: Sedona October 13 - 16 and October 27 - 30\, 2022
DESCRIPTION:20 CME
URL:https://oafp.org/event/24th-annual-mayo-clinic-internal-medicine-update-sedona-october-13-16-and-october-27-30-2022/
CATEGORIES:CME,Conference
END:VEVENT
BEGIN:VEVENT
DTSTART;TZID=America/Los_Angeles:20221013T080000
DTEND;TZID=America/Los_Angeles:20221015T170000
DTSTAMP:20260423T153056
CREATED:20220912T235810Z
LAST-MODIFIED:20220912T235810Z
UID:5309-1665648000-1665853200@oafp.org
SUMMARY:Hybrid - 34th Annual Recent Developments in Internal Medicine
DESCRIPTION:18.75 CME
URL:https://oafp.org/event/hybrid-34th-annual-recent-developments-in-internal-medicine/
LOCATION:Hybrid – Atlantic Beach\, NC
CATEGORIES:CME,Conference
END:VEVENT
BEGIN:VEVENT
DTSTART;TZID=America/Los_Angeles:20221013T080000
DTEND;TZID=America/Los_Angeles:20221015T170000
DTSTAMP:20260423T153056
CREATED:20220912T235250Z
LAST-MODIFIED:20220912T235250Z
UID:5307-1665648000-1665853200@oafp.org
SUMMARY:Pri-Med Midwest Primary Care CME/Conference Expo
DESCRIPTION:18 CME
URL:https://oafp.org/event/pri-med-midwest-primary-care-cme-conference-expo/
CATEGORIES:CME
END:VEVENT
BEGIN:VEVENT
DTSTART;TZID=America/Los_Angeles:20221007T080000
DTEND;TZID=America/Los_Angeles:20221009T170000
DTSTAMP:20260423T153056
CREATED:20220912T234234Z
LAST-MODIFIED:20220912T234332Z
UID:5302-1665129600-1665334800@oafp.org
SUMMARY:Family Medicine Midwest 2022 Conference
DESCRIPTION:
URL:https://oafp.org/event/family-medicine-midwest-2022-conference/
LOCATION:Minneapolis\, MN
CATEGORIES:Conference
END:VEVENT
BEGIN:VEVENT
DTSTART;TZID=America/Los_Angeles:20221006T080000
DTEND;TZID=America/Los_Angeles:20221008T170000
DTSTAMP:20260423T153056
CREATED:20220912T234036Z
LAST-MODIFIED:20220912T234036Z
UID:5300-1665043200-1665248400@oafp.org
SUMMARY:Medical College of Wisconsin 35th Annual Update in Primary Care
DESCRIPTION:13 CME
URL:https://oafp.org/event/medical-college-of-wisconsin-35th-annual-update-in-primary-care/
CATEGORIES:CME,Conference
END:VEVENT
BEGIN:VEVENT
DTSTART;TZID=America/Los_Angeles:20221006T080000
DTEND;TZID=America/Los_Angeles:20221007T170000
DTSTAMP:20260423T153056
CREATED:20220912T233718Z
LAST-MODIFIED:20220912T233718Z
UID:5298-1665043200-1665162000@oafp.org
SUMMARY:Kansas AFP - Mid to West Health Equity Summit
DESCRIPTION:12 CME
URL:https://oafp.org/event/kansas-afp-mid-to-west-health-equity-summit/
CATEGORIES:CME,Conference
END:VEVENT
BEGIN:VEVENT
DTSTART;TZID=America/Los_Angeles:20221005T080000
DTEND;TZID=America/Los_Angeles:20221008T170000
DTSTAMP:20260423T153056
CREATED:20220912T165623Z
LAST-MODIFIED:20221012T010921Z
UID:5290-1664956800-1665248400@oafp.org
SUMMARY:AAFP Family Medicine Board Review Express® Livestream
DESCRIPTION:29.25 CME
URL:https://oafp.org/event/aafp-family-medicine-board-review-express-livestream/
LOCATION:Virtual
CATEGORIES:AAFP Events,CME
END:VEVENT
BEGIN:VEVENT
DTSTART;TZID=America/Los_Angeles:20221004T080000
DTEND;TZID=America/Los_Angeles:20221007T170000
DTSTAMP:20260423T153056
CREATED:20220912T165340Z
LAST-MODIFIED:20220912T165340Z
UID:5288-1664870400-1665162000@oafp.org
SUMMARY:Skin\, Bones\, Hearts & Private Parts - San Antonio CME Conference
DESCRIPTION:26 CME
URL:https://oafp.org/event/skin-bones-hearts-private-parts-san-antonio-cme-conference/
CATEGORIES:CME,Conference
END:VEVENT
BEGIN:VEVENT
DTSTART;TZID=America/Los_Angeles:20221001T080000
DTEND;TZID=America/Los_Angeles:20221001T170000
DTSTAMP:20260423T153056
CREATED:20220912T233324Z
LAST-MODIFIED:20220912T233343Z
UID:5294-1664611200-1664643600@oafp.org
SUMMARY:OMA 2022 Annual Conference
DESCRIPTION:
URL:https://oafp.org/event/oma-2022-annual-conference/
LOCATION:Hilton Portland Downtown\, 921 Southwest 6th Avenue\, Portland\, Oregon\, 97204\, United States
CATEGORIES:CME,Conference
END:VEVENT
BEGIN:VEVENT
DTSTART;TZID=America/Los_Angeles:20220929T123000
DTEND;TZID=America/Los_Angeles:20221001T120000
DTSTAMP:20260423T153056
CREATED:20220726T194314Z
LAST-MODIFIED:20220726T194314Z
UID:4729-1664454600-1664625600@oafp.org
SUMMARY:Oregon Pain Summit
DESCRIPTION:Now\, in its 4th year\, the Oregon Pain Summit is an interdisciplinary conference that explores the pain experience \, its contributing factors\, and potential treatments from an evidence-based perspective. As the chronic pain epidemic continues to grow unchecked\, there have been large advances in the understanding of pain’s pathophysiology and its management. The Oregon Pain Summit hosts local\, national\, and international experts on pain and provides attendees with the latest updates on this pervasive condition. Topics covered include – the neurobiology of pain\, trauma informed care\, and the evidence behind current treatments. This conference targets any clinician or patient who treats and experiences pain. Registration will be both in person and virtual. \nThis year’s learning objectives are: \n\nUnderstand and be able to explain the physiology of pain\nExplore why certain treatments may be effective or ineffective\nLearn trauma informed practices and be able to apply them\nUnderstand opiate use disorder and the harm reduction mindset and principles\nBe able to apply basic neurocognitive principles in the management of chronic pain
URL:https://oafp.org/event/oregon-pain-summit/
LOCATION:Boulder Falls Conference Center\, 505 Mullins Dr\, Lebanon\, OR\, 97355\, United States
CATEGORIES:CME,Conference,Hybrid
END:VEVENT
BEGIN:VEVENT
DTSTART;VALUE=DATE:20220926
DTEND;VALUE=DATE:20220927
DTSTAMP:20260423T153056
CREATED:20220912T165018Z
LAST-MODIFIED:20221012T010839Z
UID:5286-1664150400-1664236799@oafp.org
SUMMARY:Last Day to Register for AAFP's METRIC
DESCRIPTION:20 CME
URL:https://oafp.org/event/last-day-to-register-for-aafps-metric/
CATEGORIES:AAFP Events
END:VEVENT
BEGIN:VEVENT
DTSTART;TZID=America/Los_Angeles:20220918T170000
DTEND;TZID=America/Los_Angeles:20220924T100000
DTSTAMP:20260423T153056
CREATED:20220726T194654Z
LAST-MODIFIED:20220726T194654Z
UID:4734-1663520400-1664013600@oafp.org
SUMMARY:Oregon Virtual Family Medicine Residency Week
DESCRIPTION:Find out about Oregon’s eight outstanding family medicine residencies during this virtual weeklong event.  In addition to attending sessions with each of our family medicine residencies\, there will be educational sessions available throughout the week. \n 
URL:https://oafp.org/event/oregon-virtual-family-medicine-residency-week/
LOCATION:Virtual
CATEGORIES:Discussion,Free,Includes Q & A,OAFP Events,Virtual
ORGANIZER;CN="ORCA-FM":MAILTO:louisem@oafp.org
END:VEVENT
BEGIN:VEVENT
DTSTART;TZID=America/Los_Angeles:20220818T180000
DTEND;TZID=America/Los_Angeles:20220818T193000
DTSTAMP:20260423T153056
CREATED:20220726T193515Z
LAST-MODIFIED:20220726T193515Z
UID:4724-1660845600-1660851000@oafp.org
SUMMARY:Including You: Conversation with Mosley Wotta
DESCRIPTION:Have you been concerned or curious about how to approach equity in our community? Are you looking for a supportive place to learn\, listen\, ask questions and join others in exploring topics of diversity\, equity\, and inclusion? \nEach conversation features an Oregon artist who will share their creative work as an entry point to conversations about equity and community – encouraging us to join them in being curious\, listening to understand\, and building a collective community that works together toward greater inclusion in our town. \nClick HERE to register now.
URL:https://oafp.org/event/including-you-conversation-with-mosley-wotta/
LOCATION:Chehalem Cultural Center\, 415 E Sheridan St\, Newberg\, OR\, 97132\, United States
CATEGORIES:Discussion,Free,Includes Q & A,Lecture
END:VEVENT
BEGIN:VEVENT
DTSTART;TZID=America/Los_Angeles:20220728T120000
DTEND;TZID=America/Los_Angeles:20220728T130000
DTSTAMP:20260423T153056
CREATED:20220726T193138Z
LAST-MODIFIED:20220726T193609Z
UID:4722-1659009600-1659013200@oafp.org
SUMMARY:Webinar - Primary Care: A Key Lever to Advance Health Equity
DESCRIPTION:At its core\, primary care is about building trust and relationships\, two key contributors to mitigating the social and structural drivers of inequities. Primary care’s important role in health care equity is supported by a new report jointly authored by the Primary Care Collaborative\, Morehouse\, and National Center for Primary Care. The webinar convenes subject matter experts to discuss the report in-depth and the state of healthcare equity. Join leaders from AARP\, PCDC\, Morehouse\, the Penn Center for CHW\, and PCC as we discuss one of health care’s most vital issues. \nClick HERE to register.
URL:https://oafp.org/event/webinar-primary-care-a-key-lever-to-advance-health-equity/
CATEGORIES:Free,Virtual,Webinar
END:VEVENT
END:VCALENDAR