BEGIN:VCALENDAR
VERSION:2.0
PRODID:-//Oregon Academy of Family Physicians - ECPv6.15.20//NONSGML v1.0//EN
CALSCALE:GREGORIAN
METHOD:PUBLISH
X-WR-CALNAME:Oregon Academy of Family Physicians
X-ORIGINAL-URL:https://oafp.org
X-WR-CALDESC:Events for Oregon Academy of Family Physicians
REFRESH-INTERVAL;VALUE=DURATION:PT1H
X-Robots-Tag:noindex
X-PUBLISHED-TTL:PT1H
BEGIN:VTIMEZONE
TZID:America/Los_Angeles
BEGIN:DAYLIGHT
TZOFFSETFROM:-0800
TZOFFSETTO:-0700
TZNAME:PDT
DTSTART:20220313T100000
END:DAYLIGHT
BEGIN:STANDARD
TZOFFSETFROM:-0700
TZOFFSETTO:-0800
TZNAME:PST
DTSTART:20221106T090000
END:STANDARD
BEGIN:DAYLIGHT
TZOFFSETFROM:-0800
TZOFFSETTO:-0700
TZNAME:PDT
DTSTART:20230312T100000
END:DAYLIGHT
BEGIN:STANDARD
TZOFFSETFROM:-0700
TZOFFSETTO:-0800
TZNAME:PST
DTSTART:20231105T090000
END:STANDARD
BEGIN:DAYLIGHT
TZOFFSETFROM:-0800
TZOFFSETTO:-0700
TZNAME:PDT
DTSTART:20240310T100000
END:DAYLIGHT
BEGIN:STANDARD
TZOFFSETFROM:-0700
TZOFFSETTO:-0800
TZNAME:PST
DTSTART:20241103T090000
END:STANDARD
END:VTIMEZONE
BEGIN:VEVENT
DTSTART;TZID=America/Los_Angeles:20231121T120000
DTEND;TZID=America/Los_Angeles:20231121T130000
DTSTAMP:20260423T142136
CREATED:20231101T190757Z
LAST-MODIFIED:20231101T190757Z
UID:7967-1700568000-1700571600@oafp.org
SUMMARY:Lunch & Learn: Nutrition\, Health & Climate Change
DESCRIPTION:Presented by Monica DeMasi\, MD\, MPH\, FAAFP \nLearning Objectives \n1. Explore co-benefits of a plant-forward diet to improve patient health and mitigate climate change.\n2. Identify strategies to support your patients in transition to plant-based or plant-forward diets.\n3. Create patient-centric action plans to incorporate plant forward diets for human and planetary health into your patient care and teaching. \n\nThe AAFP has reviewed OAFP Lunch and Learn\, and deemed it acceptable for AAFP credit. Term of approval is from 09/19/2023 to 03/19/2024. Physicians should claim only the credit commensurate with the extent of their participation in the activity. \nAAFP Prescribed credit is accepted by the American Medical Association as equivalent to AMA PRA Category 1 credit(s)™ toward the AMA Physician’s Recognition Award. When applying for the AMA PRA\, Prescribed credit earned must be reported as Prescribed\, not as Category 1.
URL:https://oafp.org/event/lunch-learn-nutrition-health-climate-change/
LOCATION:Virtual
CATEGORIES:CME,Free,OAFP Events,Virtual,Webinar
ORGANIZER;CN="OAFP":MAILTO:mail@oafp.org
END:VEVENT
BEGIN:VEVENT
DTSTART;TZID=America/Los_Angeles:20231117T080000
DTEND;TZID=America/Los_Angeles:20231117T160000
DTSTAMP:20260423T142136
CREATED:20231101T194042Z
LAST-MODIFIED:20231101T194042Z
UID:7994-1700208000-1700236800@oafp.org
SUMMARY:The Science and Practice of Treating   Opioid Use Disorder in Primary Care
DESCRIPTION:OAFP – ORN Summit\nThis free training satisfies 5.25 hours of the mandatory DEA MATE Act requirement of 8-hours. \nThe summit will demonstrate how buprenorphine prescribing by non-addiction training providers can help patients bridge to and access treatment in any setting (primary care\, hospital\, emergency department\, specialty care). Prescribing buprenorphine can be easy and very effective for all providers to start a patient’s journey to recovery.
URL:https://oafp.org/event/the-science-and-practice-of-treating-opioid-use-disorder-in-primary-care-3/
LOCATION:Gerlinger Alumni Loung\, 1468 University Street\, Eugene\, OR\, 97401\, United States
CATEGORIES:CME,Discussion,Free,Includes Q & A,Lecture,OAFP Events,Training
END:VEVENT
BEGIN:VEVENT
DTSTART;TZID=America/Los_Angeles:20231116T183000
DTEND;TZID=America/Los_Angeles:20231116T200000
DTSTAMP:20260423T142136
CREATED:20231101T192440Z
LAST-MODIFIED:20231101T192856Z
UID:7978-1700159400-1700164800@oafp.org
SUMMARY:Klamath Medical Education Colloquium - Fad Diets: The Evidence Base
DESCRIPTION:The Klamath Medical Education Colloquium (KMEC) is a free program for health care professionals wishing to learn more and increase their medical literacy on a variety of topics pertinent to our communities. \nPresented by Stewart L. Decker\, MD\, MPH\, FAAFP\, FWMS \n\nThe AAFP has reviewed OAFP/Klamath Medical Education Colloquium Seminar Series\, and deemed it acceptable for AAFP credit. Term of approval is from 10/23/2023 to 05/16/2024. Physicians should claim only the credit commensurate with the extent of their participation in the activity. \nAAFP Prescribed credit is accepted by the American Medical Association as equivalent to AMA PRA Category 1 credit(s)™ toward the AMA Physician’s Recognition Award. When applying for the AMA PRA\, Prescribed credit earned must be reported as Prescribed\, not as Category 1.
URL:https://oafp.org/event/klamath-medical-education-colloquium-fad-diets-the-evidence-base/
LOCATION:Pine Street Open Door Clinic\, 403 Pine St\, Klamath Falls\, OR\, 97601\, United States
CATEGORIES:CME,Free,Lecture,OAFP Events,Training
END:VEVENT
BEGIN:VEVENT
DTSTART;TZID=America/Los_Angeles:20231023T180000
DTEND;TZID=America/Los_Angeles:20231023T190000
DTSTAMP:20260423T142136
CREATED:20230424T212332Z
LAST-MODIFIED:20230425T010102Z
UID:7225-1698084000-1698087600@oafp.org
SUMMARY:OAFP Fall Town Hall
DESCRIPTION:Open to all OAFP members. Come learn about what is going on at the OAFP and make your voice heard.
URL:https://oafp.org/event/oafp-fall-town-hall/
LOCATION:Virtual
ORGANIZER;CN="OAFP":MAILTO:mail@oafp.org
END:VEVENT
BEGIN:VEVENT
DTSTART;TZID=America/Los_Angeles:20231017T120000
DTEND;TZID=America/Los_Angeles:20231017T130000
DTSTAMP:20260423T142136
CREATED:20230718T224357Z
LAST-MODIFIED:20230718T224516Z
UID:7554-1697544000-1697547600@oafp.org
SUMMARY:Lunch & Learn: Value-based Care
DESCRIPTION:
URL:https://oafp.org/event/lunch-learn-value-based-care/
LOCATION:Virtual
CATEGORIES:Free,OAFP Events,Virtual,Webinar
ORGANIZER;CN="OAFP":MAILTO:mail@oafp.org
END:VEVENT
BEGIN:VEVENT
DTSTART;VALUE=DATE:20231006
DTEND;VALUE=DATE:20231008
DTSTAMP:20260423T142136
CREATED:20230830T224224Z
LAST-MODIFIED:20230830T224224Z
UID:7737-1696550400-1696723199@oafp.org
SUMMARY:Oregon Pain Summit 2023
DESCRIPTION:You can expect to learn from clinical experts in pain science and psychologically informed treatment. We hope to challenge beliefs and improve your understanding of the patient experience to better help your community. Equipped with this knowledge\, you can feel more confident seeing patients and less anxious coming along side patients with chronic pain. This transformative summit will surround you with problem solving partners and clinicians looking to make a difference in building patient autonomy. \nFor event details and cost information for virtual options\, click on our flyer: 2023 OPS Flyer
URL:https://oafp.org/event/oregon-pain-summit-2023/
LOCATION:Zenith Vineyards\, 5657 Zena Road Northwest\, Salem\, OR\, 97304
END:VEVENT
BEGIN:VEVENT
DTSTART;TZID=America/Los_Angeles:20230919T120000
DTEND;TZID=America/Los_Angeles:20230919T130000
DTSTAMP:20260423T142136
CREATED:20230718T224357Z
LAST-MODIFIED:20230919T172258Z
UID:7553-1695124800-1695128400@oafp.org
SUMMARY:Lunch & Learn: Gender Affirming Hormone Therapy
DESCRIPTION:Join Drs. Kyle Kurzet and Christina Milano as they discuss gender affirming hormone therapy updates in lab surveillance. \nClick HERE to join. \nApplication for CME credit has been filed with the AAFP. Determination of credit is pending. \n  \n 
URL:https://oafp.org/event/lunch-learn-gender-affirming-care/
LOCATION:OR
CATEGORIES:Webinar
ORGANIZER;CN="OAFP":MAILTO:mail@oafp.org
END:VEVENT
BEGIN:VEVENT
DTSTART;TZID=America/Los_Angeles:20230915T080000
DTEND;TZID=America/Los_Angeles:20230915T160000
DTSTAMP:20260423T142136
CREATED:20230828T191512Z
LAST-MODIFIED:20230828T215300Z
UID:7690-1694764800-1694793600@oafp.org
SUMMARY:The Science and Practice of Treating Opioid Use Disorder in Primary Care
DESCRIPTION:Fulfill your DEA MATE training requirement! Free program for OAFP members only. \nSpace is limited: Register here! \nFor questions contact Louise Merrigan @ louisem@oafp.org.
URL:https://oafp.org/event/the-science-and-practice-of-treating-opioid-use-disorder-in-primary-care-2/
LOCATION:Kennedy School Hotel\, 5736 NE 33rd Ave\, Portland\, OR\, 97211
ORGANIZER;CN="OAFP":MAILTO:mail@oafp.org
END:VEVENT
BEGIN:VEVENT
DTSTART;TZID=America/Los_Angeles:20230910T170000
DTEND;TZID=America/Los_Angeles:20230916T170000
DTSTAMP:20260423T142136
CREATED:20230828T174341Z
LAST-MODIFIED:20230828T174341Z
UID:7688-1694365200-1694883600@oafp.org
SUMMARY:2023 Oregon FM Virtual Residency Week
DESCRIPTION:
URL:https://oafp.org/event/2023-oregon-fm-virtual-residency-week/
LOCATION:OR
CATEGORIES:Discussion,Free,Includes Q & A,OAFP Events,Virtual
ORGANIZER;CN="OAFP":MAILTO:mail@oafp.org
END:VEVENT
BEGIN:VEVENT
DTSTART;TZID=America/Los_Angeles:20230819T120000
DTEND;TZID=America/Los_Angeles:20230819T130000
DTSTAMP:20260423T142136
CREATED:20230718T224356Z
LAST-MODIFIED:20230718T224356Z
UID:7552-1692446400-1692450000@oafp.org
SUMMARY:Lunch & Learn: Congenital Syphilis
DESCRIPTION:
URL:https://oafp.org/event/lunch-learn-congenital-syphilis/
LOCATION:OR
CATEGORIES:Webinar
ORGANIZER;CN="OAFP":MAILTO:mail@oafp.org
END:VEVENT
BEGIN:VEVENT
DTSTART;VALUE=DATE:20230817
DTEND;VALUE=DATE:20230821
DTSTAMP:20260423T142136
CREATED:20230718T224540Z
LAST-MODIFIED:20230718T224540Z
UID:7569-1692230400-1692575999@oafp.org
SUMMARY:Conference - Livestream – Family-Centered Pregnancy Care (including ALSO® courses)
DESCRIPTION:
URL:https://oafp.org/event/conference-livestream-family-centered-pregnancy-care-including-also-courses/
LOCATION:OR
CATEGORIES:Conference
END:VEVENT
BEGIN:VEVENT
DTSTART;VALUE=DATE:20230811
DTEND;VALUE=DATE:20230813
DTSTAMP:20260423T142136
CREATED:20230718T224540Z
LAST-MODIFIED:20230718T224540Z
UID:7567-1691712000-1691884799@oafp.org
SUMMARY:Conference - When Things Go Wrong in the Outdoors
DESCRIPTION:
URL:https://oafp.org/event/conference-when-things-go-wrong-in-the-outdoors/
LOCATION:OR
CATEGORIES:Conference
END:VEVENT
BEGIN:VEVENT
DTSTART;TZID=America/Los_Angeles:20230809T000000
DTEND;TZID=America/Los_Angeles:20230812T000000
DTSTAMP:20260423T142136
CREATED:20220913T181616Z
LAST-MODIFIED:20220913T181616Z
UID:5364-1691539200-1691798400@oafp.org
SUMMARY:2023 Arkansas AFP 76th Anniversary Scientific Assembly
DESCRIPTION:
URL:https://oafp.org/event/2023-arkansas-afp-76th-anniversary-scientific-assembly/
LOCATION:OR
CATEGORIES:CME
END:VEVENT
BEGIN:VEVENT
DTSTART;TZID=America/Los_Angeles:20230719T120000
DTEND;TZID=America/Los_Angeles:20230719T130000
DTSTAMP:20260423T142136
CREATED:20230718T224354Z
LAST-MODIFIED:20230718T224354Z
UID:7551-1689768000-1689771600@oafp.org
SUMMARY:OHSU Grand Rounds: Oregon Psilocybin Services: Tips for Primary Care
DESCRIPTION:
URL:https://oafp.org/event/ohsu-grand-rounds-oregon-psilocybin-services-tips-for-primary-care/
LOCATION:OR
CATEGORIES:Meeting,Webinar
END:VEVENT
BEGIN:VEVENT
DTSTART;TZID=America/Los_Angeles:20230719T110000
DTEND;TZID=America/Los_Angeles:20230719T120000
DTSTAMP:20260423T142136
CREATED:20230718T224429Z
LAST-MODIFIED:20230718T224429Z
UID:7559-1689764400-1689768000@oafp.org
SUMMARY:Webinar - Oregon Health Plan (OHP) expansion through Healthier Oregon
DESCRIPTION:
URL:https://oafp.org/event/webinar-oregon-health-plan-ohp-expansion-through-healthier-oregon/
LOCATION:OR
CATEGORIES:Webinar
END:VEVENT
BEGIN:VEVENT
DTSTART;TZID=America/Los_Angeles:20230608T000000
DTEND;TZID=America/Los_Angeles:20230611T000000
DTSTAMP:20260423T142136
CREATED:20220913T181528Z
LAST-MODIFIED:20220913T181528Z
UID:5363-1686182400-1686441600@oafp.org
SUMMARY:2023 South Carolina AFP Summer Break Away & Annual Assembly
DESCRIPTION:
URL:https://oafp.org/event/2023-south-carolina-afp-summer-break-away-annual-assembly/
LOCATION:OR
CATEGORIES:CME
END:VEVENT
BEGIN:VEVENT
DTSTART;TZID=America/Los_Angeles:20230601T070000
DTEND;TZID=America/Los_Angeles:20230601T103000
DTSTAMP:20260423T142136
CREATED:20230424T211431Z
LAST-MODIFIED:20230424T211925Z
UID:7220-1685602800-1685615400@oafp.org
SUMMARY:Youth Suicide Assessment in Various Environments for Primary Care Session 2 of 2
DESCRIPTION:This activity has been approved for 8.5 AMA PRA Category 1 Credit(s)™. The planners of this event have disclosed they have no relevant financial relationships with commercial interests. \nInteractive Virtual Class Sessions will be held on: \n(Day 1): Wednesday\, May 31 / 1:00 PM – 4:30 PM \n(Day 2): Thursday\, June 1 / 7:00 AM – 10:30 AM \nParticipants will also complete two recorded webinars independently — one prior to the virtual class sessions and one after. Each webinar will take approximately 1 hour to complete. \nAbout Youth SAVE for Primary Care \nYouth SAVE (Suicide Assessment in Various Environments) equips medical providers with the youth\, equity\, and evidence-based skills and tools to assess and intervene with youth who have thoughts of suicide. As a participant of Youth SAVE\, this training will educate and challenge you to: \n– Understand and apply an equity lens to suicide prevention with youth in medical settings \n– Understand and identify needs\, risks\, resiliency factors\, and challenges related to suicide among youth  \n– Understand and identify needs\, protocols\, and tools related to suicide assessment and intervention among youth in medical settings \n– Conduct suicide assessment and intervention with youth in medical settings \n– Incorporate resiliency factors for the youth and incorporate them into a collaborative safety plan \n– Identify and connect to local resources for support with suicide prevention with youth. \nThe Youth SAVE for Primary Care training consists of 9 hours to be completed by participants over multiple days. The training format is two 3.5-hour virtual class sessions and two 1-hour webinars to be completed independently. The live training uses Zoom\, and we require participants to have their camera on for the duration of virtual class sessions. If this isn’t possible for you during these training dates\, please let us know and we would be happy to place you on our email list to notify you of future Youth SAVE training opportunities. \nIf you are unable to attend both of these dates but are interested in attending a future training\, please email youth.SAVE@oraap.org for updates as more training sessions are scheduled. \nIf you have any questions\, please contact us at Youth.SAVE@oraap.org.
URL:https://oafp.org/event/youth-suicide-assessment-in-various-environments-for-primary-care-session-2-of-2/
LOCATION:Virtual
CATEGORIES:CME,Training,Virtual
END:VEVENT
BEGIN:VEVENT
DTSTART;TZID=America/Los_Angeles:20230531T130000
DTEND;TZID=America/Los_Angeles:20230531T163000
DTSTAMP:20260423T142136
CREATED:20230424T211204Z
LAST-MODIFIED:20230424T211204Z
UID:7217-1685538000-1685550600@oafp.org
SUMMARY:Youth Suicide Assessment in Various Environments for Primary Care Session 1 of 2
DESCRIPTION:Youth SAVE for Primary Care will equip both medical and behavioral health providers with the skills to screen for and intervene with youth experiencing thoughts of suicide\, both in person and via telemedicine. \nInteractive Virtual Class Sessions will be held on: \n(Day 1): Wednesday\, May 31 / 1:00 PM – 4:30 PM \n(Day 2): Thursday\, June 1 / 7:00 AM – 10:30 AM \nLearning Objectives\n\nApply an equity lens to suicide prevention with youth\nIdentify needs\, risks\, resiliency factors\, and challenges related to suicide among youth\nConduct suicide assessment and intervention with youth\nIdentify resiliency factors for youth\, incorporating them into a collaborative safety plan\nIdentify needs\, protocols\, and tools related to suicide assessment and intervention among youth\nIdentify and connect to local resources for support with suicide prevention with youth\n\nCME\nThis activity has been approved for up to 8.5 AMA PRA Category 1 Credits TM \nTarget Audience\nMedical providers and clinic staff \nQuestions\nyouth.save@oraap.org
URL:https://oafp.org/event/youth-suicide-assessment-in-various-environments-for-primary-care-session-1-of-2/
LOCATION:Virtual
CATEGORIES:CME,Training,Virtual
END:VEVENT
BEGIN:VEVENT
DTSTART;VALUE=DATE:20230508
DTEND;VALUE=DATE:20230512
DTSTAMP:20260423T142136
CREATED:20221013T200741Z
LAST-MODIFIED:20221013T200741Z
UID:5641-1683583200-1683842399@oafp.org
SUMMARY:AAFP Annual Leadership Conference and State Legislative Conference
DESCRIPTION:
URL:https://oafp.org/event/aafp-annual-leadership-conference-and-state-legislative-conference/
LOCATION:Sheraton Kansas City at Crown Center\, 2345 McGee St\, Kansas City\, 64108\, United States
END:VEVENT
BEGIN:VEVENT
DTSTART;TZID=America/Los_Angeles:20230504T000000
DTEND;TZID=America/Los_Angeles:20230507T000000
DTSTAMP:20260423T142136
CREATED:20220913T181528Z
LAST-MODIFIED:20220913T181528Z
UID:5362-1683158400-1683417600@oafp.org
SUMMARY:2023 Maine AFP 31st Annual Family Medicine Update
DESCRIPTION:
URL:https://oafp.org/event/2023-maine-afp-31st-annual-family-medicine-update/
LOCATION:OR
CATEGORIES:CME
END:VEVENT
BEGIN:VEVENT
DTSTART;TZID=America/Los_Angeles:20230504T000000
DTEND;TZID=America/Los_Angeles:20230507T000000
DTSTAMP:20260423T142136
CREATED:20220913T181527Z
LAST-MODIFIED:20220913T181527Z
UID:5361-1683158400-1683417600@oafp.org
SUMMARY:2023 Colorado AFP Foundation Annual Summit
DESCRIPTION:
URL:https://oafp.org/event/2023-colorado-afp-foundation-annual-summit/
LOCATION:OR
CATEGORIES:CME
END:VEVENT
BEGIN:VEVENT
DTSTART;TZID=America/Los_Angeles:20230427T070000
DTEND;TZID=America/Los_Angeles:20230429T120000
DTSTAMP:20260423T142136
CREATED:20230307T185121Z
LAST-MODIFIED:20230307T185121Z
UID:6860-1682578800-1682769600@oafp.org
SUMMARY:Mayo Clinic 7th Annual SKIN: Practical Dermatology for the Generalist 2023 Conference
DESCRIPTION:Scholarship Opportunity \nAs part of the 2023 Dermatology SKIN conference\, Mayo Clinic Dermatology is offering scholarships to attend the VIRTUAL option for this conference.  A limited number of scholarships will be awarded to attend this course. Applications must be received by March 24th\, 2023. \nFor instructions and more information please click here to complete the scholarship application form. \nPoster Presentation Opportunity\nPoster submission opportunity available for attendees to the Live Conference.  Please visit this site to learn more information. \n\n\n\n\nTarget Audience\n\n\n\nThe information presented will be relevant to a broad range of non-dermatologists and primary care providers\, including general practitioners\, internists\, physicians\, residents\, physician assistants\, nurse practitioners\, APRNs and registered nurses. \n\n\n\n\n\nLearning Objectives\n\n\n\nUpon completion of this activity\, participants should be able to: \n\nAnalyze the various potencies of topical steroids and recognize which diseases and which body areas can be treated with the varying steroid classes\nIdentify common skin growths and differentiate these from lesions which are concerning for skin cancer\nIdentify skin cancers which require surgical intervention and the value of consultation for more complex Mohs surgery\nRecognize common skin rashes between those rashes that may have serious associated systemic implications and those that can be safely treated by primary care\nRecognize when consultation is needed for more serious conditions
URL:https://oafp.org/event/mayo-clinic-7th-annual-skin-practical-dermatology-for-the-generalist-2023-conference/
LOCATION:The Camby\, Phoenix\, AZ\, United States
CATEGORIES:CME,Conference,Hybrid
END:VEVENT
BEGIN:VEVENT
DTSTART;TZID=America/Los_Angeles:20230424T180000
DTEND;TZID=America/Los_Angeles:20230424T190000
DTSTAMP:20260423T142136
CREATED:20230424T212150Z
LAST-MODIFIED:20230424T212150Z
UID:7223-1682359200-1682362800@oafp.org
SUMMARY:OAFP Spring Town Hall
DESCRIPTION:Open to all OAFP members. Come learn what is going on with the OAFP and make your voice heard.
URL:https://oafp.org/event/oafp-spring-town-hall/
LOCATION:Virtual
ORGANIZER;CN="OAFP":MAILTO:mail@oafp.org
END:VEVENT
BEGIN:VEVENT
DTSTART;TZID=America/Los_Angeles:20230422T000000
DTEND;TZID=America/Los_Angeles:20230422T000000
DTSTAMP:20260423T142136
CREATED:20220913T181527Z
LAST-MODIFIED:20220913T181527Z
UID:5360-1682121600-1682121600@oafp.org
SUMMARY:2023 Pennsylvania AFP Family Medicine Essentials Summit
DESCRIPTION:
URL:https://oafp.org/event/2023-pennsylvania-afp-family-medicine-essentials-summit/
LOCATION:OR
CATEGORIES:CME
END:VEVENT
BEGIN:VEVENT
DTSTART;VALUE=DATE:20230413
DTEND;VALUE=DATE:20230416
DTSTAMP:20260423T142136
CREATED:20221003T183531Z
LAST-MODIFIED:20230126T173219Z
UID:5524-1681344000-1681603199@oafp.org
SUMMARY:OAFP Annual Spring Conference at Salishan
DESCRIPTION:Join us for three days of fellowship\, fun and learning in a beautiful coastal spot. Find program\, registration and housing information at the link below.
URL:https://oafp.org/event/oafp-annual-spring-conference-in-salishan/
LOCATION:Salishan Coastal Lodge\, 7760 US-101 97388\, Gleneden Beach\, Oregon\, 97388\, United States
CATEGORIES:OAFP Events
ORGANIZER;CN="OAFP":MAILTO:mail@oafp.org
END:VEVENT
BEGIN:VEVENT
DTSTART;TZID=America/Los_Angeles:20230413T000000
DTEND;TZID=America/Los_Angeles:20230415T000000
DTSTAMP:20260423T142136
CREATED:20220913T181526Z
LAST-MODIFIED:20230126T173029Z
UID:5359-1681344000-1681516800@oafp.org
SUMMARY:2023 OAFP Annual Conference
DESCRIPTION:Join us for our Annual CME Conference\, co-hosted for the first time with the Oregon Pediatric Society. Details and registration information are available at the link below.
URL:https://oafp.org/event/2023-oafp-annual-conference/
LOCATION:Salishan Coastal Lodge\, 7760 US-101 97388\, Gleneden Beach\, Oregon\, 97388\, United States
CATEGORIES:CME,OAFP Events
ORGANIZER;CN="OAFP":MAILTO:mail@oafp.org
END:VEVENT
BEGIN:VEVENT
DTSTART;VALUE=DATE:20230402
DTEND;VALUE=DATE:20230403
DTSTAMP:20260423T142136
CREATED:20221003T184004Z
LAST-MODIFIED:20221012T010426Z
UID:5532-1680393600-1680479999@oafp.org
SUMMARY:Completed Poster Slide Submissions DUE
DESCRIPTION:
URL:https://oafp.org/event/completed-poster-slide-submissions-due/
LOCATION:OR
CATEGORIES:OAFP Events
END:VEVENT
BEGIN:VEVENT
DTSTART;VALUE=DATE:20230401
DTEND;VALUE=DATE:20230402
DTSTAMP:20260423T142136
CREATED:20221205T185803Z
LAST-MODIFIED:20221205T185803Z
UID:6034-1680307200-1680393599@oafp.org
SUMMARY:National Conference Poster Application Due Date
DESCRIPTION:2023 AAFP National Conference Poster Applications Due April 1 \nThe American Academy of Family Physicians (AAFP) is now accepting applications for posters for the 2023 National Conference of Family Medicine Residents and Medical Students\, July 27–29 in Kansas City\, MO. \nNational Conference provides one of the largest forums for residents and students to display their research and special projects for their peers\, residency programs\, and potential employers. \nAAFP is accepting applications on the following topics: \n\nClinical inquiry\nCommunity project\nEducational program\nResearch\n\nUp to 50 posters will be selected for onsite display during the conference. Of those\, the Top 12 will be invited to give a brief oral presentation for peer review. \nApplications are due by April 1\, so residents and students are encouraged to participate now.
URL:https://oafp.org/event/national-conference-poster-application-due-date/
LOCATION:OR
END:VEVENT
BEGIN:VEVENT
DTSTART;VALUE=DATE:20230315
DTEND;VALUE=DATE:20230316
DTSTAMP:20260423T142136
CREATED:20221005T225417Z
LAST-MODIFIED:20221012T010308Z
UID:5559-1678838400-1678924799@oafp.org
SUMMARY:Resolutions Due for Annual Conference
DESCRIPTION:
URL:https://oafp.org/event/resolutions-due-for-annual-conference/
LOCATION:OR
CATEGORIES:OAFP Events
END:VEVENT
BEGIN:VEVENT
DTSTART;TZID=America/Los_Angeles:20230314T170000
DTEND;TZID=America/Los_Angeles:20230314T170000
DTSTAMP:20260423T142136
CREATED:20221003T183854Z
LAST-MODIFIED:20221012T010322Z
UID:5530-1678813200-1678813200@oafp.org
SUMMARY:Notification of Abstracts Accepted for 2023 Poster Session
DESCRIPTION:
URL:https://oafp.org/event/notification-of-abstracts-accepted-for-2023-poster-session/
LOCATION:OR
CATEGORIES:OAFP Events
END:VEVENT
END:VCALENDAR