BEGIN:VCALENDAR
VERSION:2.0
PRODID:-//Oregon Academy of Family Physicians - ECPv6.15.20//NONSGML v1.0//EN
CALSCALE:GREGORIAN
METHOD:PUBLISH
X-WR-CALNAME:Oregon Academy of Family Physicians
X-ORIGINAL-URL:https://oafp.org
X-WR-CALDESC:Events for Oregon Academy of Family Physicians
REFRESH-INTERVAL;VALUE=DURATION:PT1H
X-Robots-Tag:noindex
X-PUBLISHED-TTL:PT1H
BEGIN:VTIMEZONE
TZID:America/Los_Angeles
BEGIN:DAYLIGHT
TZOFFSETFROM:-0800
TZOFFSETTO:-0700
TZNAME:PDT
DTSTART:19690427T100000
END:DAYLIGHT
BEGIN:STANDARD
TZOFFSETFROM:-0700
TZOFFSETTO:-0800
TZNAME:PST
DTSTART:19691026T090000
END:STANDARD
BEGIN:DAYLIGHT
TZOFFSETFROM:-0800
TZOFFSETTO:-0700
TZNAME:PDT
DTSTART:19700426T100000
END:DAYLIGHT
BEGIN:STANDARD
TZOFFSETFROM:-0700
TZOFFSETTO:-0800
TZNAME:PST
DTSTART:19701025T090000
END:STANDARD
BEGIN:DAYLIGHT
TZOFFSETFROM:-0800
TZOFFSETTO:-0700
TZNAME:PDT
DTSTART:19710425T100000
END:DAYLIGHT
BEGIN:STANDARD
TZOFFSETFROM:-0700
TZOFFSETTO:-0800
TZNAME:PST
DTSTART:19711031T090000
END:STANDARD
END:VTIMEZONE
BEGIN:VEVENT
DTSTART;TZID=America/Los_Angeles:20260425T063720
DTEND;TZID=America/Los_Angeles:20260425T063720
DTSTAMP:20260425T063720
CREATED:20230718T224525Z
LAST-MODIFIED:20230718T224525Z
UID:7561-0-0@oafp.org
SUMMARY:Virtual Listening Session - Oregon Psilocybin Services 
DESCRIPTION:
URL:https://oafp.org/event/virtual-listening-session-oregon-psilocybin-services/
CATEGORIES:Virtual Meeting
END:VEVENT
BEGIN:VEVENT
DTSTART;TZID=America/Los_Angeles:20260425T063720
DTEND;TZID=America/Los_Angeles:20260425T063720
DTSTAMP:20260425T063720
CREATED:20230718T224525Z
LAST-MODIFIED:20230718T224525Z
UID:7562-0-0@oafp.org
SUMMARY:Virtual Community Conversation - Child & Family Behavioral Health: Developing a New Roadmap for 2024-2026 
DESCRIPTION:
URL:https://oafp.org/event/virtual-community-conversation-child-family-behavioral-health-developing-a-new-roadmap-for-2024-2026/
CATEGORIES:Virtual Meeting
END:VEVENT
BEGIN:VEVENT
DTSTART;TZID=America/Los_Angeles:20260425T063720
DTEND;TZID=America/Los_Angeles:20260425T063720
DTSTAMP:20260425T063720
CREATED:20230718T224525Z
LAST-MODIFIED:20230718T224525Z
UID:7563-0-0@oafp.org
SUMMARY:Virtual Meeting - System of Care - Speak Out
DESCRIPTION:
URL:https://oafp.org/event/virtual-meeting-system-of-care-speak-out/
CATEGORIES:Virtual Meeting
END:VEVENT
BEGIN:VEVENT
DTSTART;TZID=America/Los_Angeles:20260425T063720
DTEND;TZID=America/Los_Angeles:20260425T063720
DTSTAMP:20260425T063720
CREATED:20230718T224525Z
LAST-MODIFIED:20230718T224525Z
UID:7564-0-0@oafp.org
SUMMARY:Virtual DEI Series - Cardiovascular Disease and American Indians
DESCRIPTION:
URL:https://oafp.org/event/virtual-dei-series-cardiovascular-disease-and-american-indians/
CATEGORIES:Webinar
END:VEVENT
BEGIN:VEVENT
DTSTART;TZID=America/Los_Angeles:20260425T063720
DTEND;TZID=America/Los_Angeles:20260425T063720
DTSTAMP:20260425T063720
CREATED:20230718T224429Z
LAST-MODIFIED:20230718T224429Z
UID:7558-0-0@oafp.org
SUMMARY:Lunch & Learn: Congress & Resolutions for Members
DESCRIPTION:
URL:https://oafp.org/event/lunch-learn-congress-resolutions-for-members/
CATEGORIES:Webinar
ORGANIZER;CN="OAFP":MAILTO:mail@oafp.org
END:VEVENT
BEGIN:VEVENT
DTSTART;TZID=America/Los_Angeles:20260425T063720
DTEND;TZID=America/Los_Angeles:20260425T063720
DTSTAMP:20260425T063720
CREATED:20230718T224428Z
LAST-MODIFIED:20230718T224428Z
UID:7555-0-0@oafp.org
SUMMARY:Lunch & Learn: Environmental Health
DESCRIPTION:
URL:https://oafp.org/event/lunch-learn-environmental-health/
CATEGORIES:Webinar
ORGANIZER;CN="OAFP":MAILTO:mail@oafp.org
END:VEVENT
BEGIN:VEVENT
DTSTART;TZID=America/Los_Angeles:20260425T063720
DTEND;TZID=America/Los_Angeles:20260425T063720
DTSTAMP:20260425T063720
CREATED:20230718T224428Z
LAST-MODIFIED:20230718T224428Z
UID:7556-0-0@oafp.org
SUMMARY:Lunch & Learn: TBA
DESCRIPTION:
URL:https://oafp.org/event/lunch-learn-tba/
CATEGORIES:Webinar
ORGANIZER;CN="OAFP":MAILTO:mail@oafp.org
END:VEVENT
BEGIN:VEVENT
DTSTART;TZID=America/Los_Angeles:20260425T063720
DTEND;TZID=America/Los_Angeles:20260425T063720
DTSTAMP:20260425T063720
CREATED:20230718T224428Z
LAST-MODIFIED:20230718T224428Z
UID:7557-0-0@oafp.org
SUMMARY:Lunch & Learn: TBA
DESCRIPTION:
URL:https://oafp.org/event/lunch-learn-tba-2/
CATEGORIES:Webinar
ORGANIZER;CN="OAFP":MAILTO:mail@oafp.org
END:VEVENT
END:VCALENDAR