BEGIN:VCALENDAR
VERSION:2.0
PRODID:-//Oregon Academy of Family Physicians - ECPv6.15.20//NONSGML v1.0//EN
CALSCALE:GREGORIAN
METHOD:PUBLISH
X-ORIGINAL-URL:https://oafp.org
X-WR-CALDESC:Events for Oregon Academy of Family Physicians
REFRESH-INTERVAL;VALUE=DURATION:PT1H
X-Robots-Tag:noindex
X-PUBLISHED-TTL:PT1H
BEGIN:VTIMEZONE
TZID:America/Los_Angeles
BEGIN:DAYLIGHT
TZOFFSETFROM:-0800
TZOFFSETTO:-0700
TZNAME:PDT
DTSTART:20190310T100000
END:DAYLIGHT
BEGIN:STANDARD
TZOFFSETFROM:-0700
TZOFFSETTO:-0800
TZNAME:PST
DTSTART:20191103T090000
END:STANDARD
BEGIN:DAYLIGHT
TZOFFSETFROM:-0800
TZOFFSETTO:-0700
TZNAME:PDT
DTSTART:20200308T100000
END:DAYLIGHT
BEGIN:STANDARD
TZOFFSETFROM:-0700
TZOFFSETTO:-0800
TZNAME:PST
DTSTART:20201101T090000
END:STANDARD
BEGIN:DAYLIGHT
TZOFFSETFROM:-0800
TZOFFSETTO:-0700
TZNAME:PDT
DTSTART:20210314T100000
END:DAYLIGHT
BEGIN:STANDARD
TZOFFSETFROM:-0700
TZOFFSETTO:-0800
TZNAME:PST
DTSTART:20211107T090000
END:STANDARD
BEGIN:DAYLIGHT
TZOFFSETFROM:-0800
TZOFFSETTO:-0700
TZNAME:PDT
DTSTART:20220313T100000
END:DAYLIGHT
BEGIN:STANDARD
TZOFFSETFROM:-0700
TZOFFSETTO:-0800
TZNAME:PST
DTSTART:20221106T090000
END:STANDARD
END:VTIMEZONE
BEGIN:VEVENT
DTSTART;TZID=America/Los_Angeles:20210126T133000
DTEND;TZID=America/Los_Angeles:20210126T143000
DTSTAMP:20260423T142613
CREATED:20210112T181505Z
LAST-MODIFIED:20210112T181846Z
UID:2257-1611667800-1611671400@oafp.org
SUMMARY:Webinar - Supporting Health for All through Reinvestment: the Share Initiative
DESCRIPTION:An upcoming webinar will cover all the requirements of the SHARE Initiative\, highlight the reporting templates that will be used to report SHARE Initiative spending\, and serve as an opportunity for CCOs to ask questions about this initiative.
URL:https://oafp.org/event/webinar-supporting-health-for-all-through-reinvestment-the-share-initiative/
LOCATION:Virtual
CATEGORIES:Free,Virtual,Webinar
END:VEVENT
BEGIN:VEVENT
DTSTART;TZID=America/Los_Angeles:20210121T120000
DTEND;TZID=America/Los_Angeles:20210121T131500
DTSTAMP:20260423T142613
CREATED:20210112T181450Z
LAST-MODIFIED:20210112T183017Z
UID:2254-1611230400-1611234900@oafp.org
SUMMARY:ECHO - COVID-19 Response ECHO for Oregon Clincians\, Part 3
DESCRIPTION:This ECHO series runs from January 7 to June 17\, 2021.
URL:https://oafp.org/event/echo-covid-19-response-echo-for-oregon-clincians-part-3/
LOCATION:Virtual
CATEGORIES:COVID-19,Free,Virtual,Webinar
END:VEVENT
BEGIN:VEVENT
DTSTART;TZID=America/Los_Angeles:20210120T130000
DTEND;TZID=America/Los_Angeles:20210120T140000
DTSTAMP:20260423T142613
CREATED:20210112T181450Z
LAST-MODIFIED:20210112T183007Z
UID:2253-1611147600-1611151200@oafp.org
SUMMARY:Webinar - COVID-19 Vaccine Safety: A Fireside Chat with CMS\, CDC and Representatives from the Front Line
DESCRIPTION:The CDC and the CMS are hosting fireside chats on vaccine safety in a special series aimed at addressing staff questions and concerns about the new COVID-19 vaccines.
URL:https://oafp.org/event/webinar-covid-19-vaccine-safety-a-fireside-chat-with-cms-cdc-and-representatives-from-the-front-line-2/
LOCATION:Virtual
CATEGORIES:COVID-19,Free,Includes Q & A,Virtual,Webinar
END:VEVENT
BEGIN:VEVENT
DTSTART;TZID=America/Los_Angeles:20210120T120000
DTEND;TZID=America/Los_Angeles:20210120T130000
DTSTAMP:20260423T142613
CREATED:20210112T181450Z
LAST-MODIFIED:20210112T182953Z
UID:2252-1611144000-1611147600@oafp.org
SUMMARY:Grand Rounds - OHSU Family Medicine: Past\, Present and Future
DESCRIPTION:Join Dr. John Saultz as he reviews the historical milestones for the Family Medicine Department and discusses current challenges in the context of this history.\nWhen it’s time to join\, click HERE.
URL:https://oafp.org/event/grand-rounds-ohsu-family-medicine-past-present-and-future/
LOCATION:Virtual
CATEGORIES:CME,Free,Virtual,Webinar
END:VEVENT
BEGIN:VEVENT
DTSTART;TZID=America/Los_Angeles:20210114T120000
DTEND;TZID=America/Los_Angeles:20210114T130000
DTSTAMP:20260423T142613
CREATED:20210112T181449Z
LAST-MODIFIED:20210112T182940Z
UID:2251-1610625600-1610629200@oafp.org
SUMMARY:Webinar - COVID-19 Information Session for Providers
DESCRIPTION:OHA’s Chief Medical Officer\, Dana Hargunani\, MD will continue the bi-weekly sessions for health care providers. 
URL:https://oafp.org/event/webinar-covid-19-information-session-for-providers/
LOCATION:Virtual
CATEGORIES:COVID-19,Free,Virtual,Webinar
ORGANIZER;CN="Oregon Health Authority":MAILTO:summer.h.boslaugh@dhsoha.state.or.us
END:VEVENT
BEGIN:VEVENT
DTSTART;TZID=America/Los_Angeles:20210113T183000
DTEND;TZID=America/Los_Angeles:20210113T203000
DTSTAMP:20260423T142613
CREATED:20210112T181446Z
LAST-MODIFIED:20210112T182917Z
UID:2249-1610562600-1610569800@oafp.org
SUMMARY:Webinar - Raising Vaccine Rates in a Climnate of Vaccine-Hesitancy
DESCRIPTION:Come and learn about vaccines and earn CME. Keynote presentation and Q & A. Registration closes at 8 am on Wednesday\, January 13. Meeting opens at 6:15 and starts at 6:30.Registration is required.
URL:https://oafp.org/event/webinar-raising-vaccine-rates-in-a-climnate-of-vaccine-hesitancy/
LOCATION:Virtual
CATEGORIES:COVID-19,Free,Includes Q & A,Virtual,Webinar
END:VEVENT
BEGIN:VEVENT
DTSTART;TZID=America/Los_Angeles:20210113T130000
DTEND;TZID=America/Los_Angeles:20210113T140000
DTSTAMP:20260423T142613
CREATED:20210112T181446Z
LAST-MODIFIED:20210112T182907Z
UID:2248-1610542800-1610546400@oafp.org
SUMMARY:Webinar - COVID-19 Vaccine Safety: A Fireside Chat with CMS\, CDC and Representatives from the Front Line
DESCRIPTION:The CDC and the CMS are hosting fireside chats on vaccine safety in a special series aimed at addressing staff questions and concerns about the new COVID-19 vaccines.
URL:https://oafp.org/event/webinar-covid-19-vaccine-safety-a-fireside-chat-with-cms-cdc-and-representatives-from-the-front-line/
LOCATION:Virtual
CATEGORIES:COVID-19,Free,Includes Q & A,Virtual,Webinar
END:VEVENT
BEGIN:VEVENT
DTSTART;TZID=America/Los_Angeles:20210113T101500
DTEND;TZID=America/Los_Angeles:20210113T111500
DTSTAMP:20260423T142613
CREATED:20210112T181446Z
LAST-MODIFIED:20210112T182856Z
UID:2247-1610532900-1610536500@oafp.org
SUMMARY:Webinar - The Emotional Toll of Allocating Resources During COVID-19
DESCRIPTION:How have US clinicians planned for and responded to resource limitation and its emotional toll during the pandemic? Dr. Kate Butler\, a nephrologist and bioethicist at U. Washington SOM\, shares her research results.
URL:https://oafp.org/event/webinar-the-emotional-toll-of-allocating-resources-during-covid-19/
LOCATION:Virtual
CATEGORIES:COVID-19,Free,Virtual,Webinar
END:VEVENT
BEGIN:VEVENT
DTSTART;TZID=America/Los_Angeles:20210112T140000
DTEND;TZID=America/Los_Angeles:20210112T150000
DTSTAMP:20260423T142613
CREATED:20210112T181445Z
LAST-MODIFIED:20210112T181644Z
UID:2246-1610460000-1610463600@oafp.org
SUMMARY:Webinar - Saving Oregon's Ailing Children's Mental Health System
DESCRIPTION:Join the conversation led by policymakers\, mental health professionals\, and survivors on how Oregon’s health care system can better provide for children who suffer from mental health illnesses\, even in our environment of shrinking budget resources.
URL:https://oafp.org/event/webinar-saving-oregons-ailing-childrens-mental-health-system/
LOCATION:Virtual
CATEGORIES:Free,Virtual,Webinar
END:VEVENT
BEGIN:VEVENT
DTSTART;TZID=America/Los_Angeles:20201229T183000
DTEND;TZID=America/Los_Angeles:20201229T193000
DTSTAMP:20260423T142613
CREATED:20201222T194501Z
LAST-MODIFIED:20201222T194606Z
UID:2179-1609266600-1609270200@oafp.org
SUMMARY:Special Joint COVID-19 Vaccine Webinar
DESCRIPTION:Join members from key Oregon medical societies as we hear from Dr. Joe Sullivan\, who is a senior advisor to OHA working on the plans to administer the COVID-19 vaccine. We will share a number of questions with Dr. Sullivan in advance of the webinar\, and will reserve time for Q & A at the end of the session as well.  Registration is required. \nBrought to you by OAFP\, OPS\, Oregon ACP and the OMA.
URL:https://oafp.org/event/special-joint-covid-19-vaccine-webinar/
LOCATION:Zoom
CATEGORIES:COVID-19,Free,Includes Q & A,OAFP Events,Virtual,Webinar
ORGANIZER;CN="OAFP":MAILTO:mail@oafp.org
END:VEVENT
BEGIN:VEVENT
DTSTART;TZID=America/Los_Angeles:20201210T120000
DTEND;TZID=America/Los_Angeles:20201210T131500
DTSTAMP:20260423T142613
CREATED:20201201T183145Z
LAST-MODIFIED:20210112T182825Z
UID:2069-1607601600-1607606100@oafp.org
SUMMARY:ECHO - COVID-19 Response ECHO for Oregon Clinicians\, Part 2
DESCRIPTION:Session 12 is the last in this series.
URL:https://oafp.org/event/echo-covid-19-response-echo-for-oregon-clinicians-part-2/
CATEGORIES:CME,COVID-19,Free,Virtual,Webinar
END:VEVENT
BEGIN:VEVENT
DTSTART;TZID=America/Los_Angeles:20201209T170000
DTEND;TZID=America/Los_Angeles:20201209T180000
DTSTAMP:20260423T142613
CREATED:20201119T220057Z
LAST-MODIFIED:20201201T182314Z
UID:2006-1607533200-1607536800@oafp.org
SUMMARY:Webinar - Best(ish) Practices in COVID-19
DESCRIPTION:This information webinar is presented by the Oregon Chapter of the Society of Critical Care Medicine and the Oregon Thoracic Society.
URL:https://oafp.org/event/webinar-bestish-practices-in-covid-19/
CATEGORIES:COVID-19,Free,Webinar
END:VEVENT
BEGIN:VEVENT
DTSTART;TZID=America/Los_Angeles:20201204T130000
DTEND;TZID=America/Los_Angeles:20201204T130000
DTSTAMP:20260423T142613
CREATED:20201201T175833Z
LAST-MODIFIED:20201201T181035Z
UID:2047-1607086800-1607086800@oafp.org
SUMMARY:Webinar - How and Why to Grow Telehealth in Your Practice
DESCRIPTION:This AAFP webinar promises to give participants insights into the current state of telehealth use in family medicine.
URL:https://oafp.org/event/webinar-how-and-why-to-grow-telehealth-in-your-practice/
CATEGORIES:AAFP Events,Free,Webinar
END:VEVENT
BEGIN:VEVENT
DTSTART;TZID=America/Los_Angeles:20201204T100000
DTEND;TZID=America/Los_Angeles:20201204T110000
DTSTAMP:20260423T142613
CREATED:20201201T174747Z
LAST-MODIFIED:20201201T182225Z
UID:2042-1607076000-1607079600@oafp.org
SUMMARY:Health Care Post-Election: A Conversation with Senator Ron Wyden
DESCRIPTION:Join the conversation about health care policy in the post-election period and beyond. This event will include an audience Q & A with Senator Wyden.
URL:https://oafp.org/event/health-care-post-election-a-conversation-with-senator-ron-wyden/
CATEGORIES:Free,Includes Q & A,Virtual,Webinar
END:VEVENT
BEGIN:VEVENT
DTSTART;TZID=America/Los_Angeles:20201203T110000
DTEND;TZID=America/Los_Angeles:20201203T120000
DTSTAMP:20260423T142613
CREATED:20201130T204403Z
LAST-MODIFIED:20201201T182545Z
UID:2016-1606993200-1606996800@oafp.org
SUMMARY:Episode 4: What Physicians Need to Know About Vaccine Development
DESCRIPTION:Hosted by the AMA\, this is the fourth episode in the webinar series: COVID-19: What Physicians Need to Know. \nPeter Marks\, MD\, PhD (Director of the Center for Biologics Evaluation and Research at the FDA) will discuss the latest developments. Physicians will learn the similarities and differences between routine vaccine development and the EUA process and understand how accelerated approval is being arrived at safely. \nRegistration is required and is open to AMA members.
URL:https://oafp.org/event/episode-4-what-physicians-need-to-know-about-vaccine-development/
LOCATION:Virtual
CATEGORIES:COVID-19,Free,Lecture,Virtual,Webinar
END:VEVENT
BEGIN:VEVENT
DTSTART;TZID=America/Los_Angeles:20201120T120000
DTEND;TZID=America/Los_Angeles:20201120T130000
DTSTAMP:20260423T142613
CREATED:20201119T215805Z
LAST-MODIFIED:20201119T215805Z
UID:2001-1605873600-1605877200@oafp.org
SUMMARY:Webinar: Using REALD Data to Advance Health Equity
DESCRIPTION:This session will provide guidance on how to prepare the ‘raw’ REALD data for analyses\, and strategies for identifying language access needs\, and inequities that may exist between groups as well as within groups. \nClick HERE to register.
URL:https://oafp.org/event/webinar-using-reald-data-to-advance-health-equity/
CATEGORIES:Free,Lecture,Virtual,Webinar
END:VEVENT
BEGIN:VEVENT
DTSTART;TZID=America/Los_Angeles:20201119T120000
DTEND;TZID=America/Los_Angeles:20201119T130000
DTSTAMP:20260423T142613
CREATED:20200827T013310Z
LAST-MODIFIED:20201102T191837Z
UID:1880-1605787200-1605790800@oafp.org
SUMMARY:Lunchtime Lecture #4 - Social Determinants of Health: From Theory to Practice
DESCRIPTION:
URL:https://oafp.org/event/lunchtime-lecture-social-determinants-of-health-from-theory-to-practice/
LOCATION:Zoom
CATEGORIES:Free,Lecture,OAFP Events,Virtual,Webinar
ORGANIZER;CN="OAFP":MAILTO:mail@oafp.org
END:VEVENT
BEGIN:VEVENT
DTSTART;TZID=America/Los_Angeles:20201112T120000
DTEND;TZID=America/Los_Angeles:20201112T130000
DTSTAMP:20260423T142613
CREATED:20200901T213728Z
LAST-MODIFIED:20201102T192222Z
UID:1888-1605182400-1605186000@oafp.org
SUMMARY:Lunchtime Lecture #3 - Social Determinants of Health & Health Equity: Through the Lens of the COVID-19 Pandemic and the Latino Community
DESCRIPTION:
URL:https://oafp.org/event/lunchtime-lecture-3-social-determinants-of-health-health-justice-a-vision-for-all/
LOCATION:Zoom
CATEGORIES:Free,Lecture,OAFP Events,Virtual,Webinar
ORGANIZER;CN="OAFP":MAILTO:mail@oafp.org
END:VEVENT
BEGIN:VEVENT
DTSTART;TZID=America/Los_Angeles:20201008T120000
DTEND;TZID=America/Los_Angeles:20201008T130000
DTSTAMP:20260423T142613
CREATED:20200827T013010Z
LAST-MODIFIED:20200904T231125Z
UID:1878-1602158400-1602162000@oafp.org
SUMMARY:Lunchtime Lecture #2 - Bag of Worms or Teachable Moment? The Role of Family Physicians in Addressing Unhealthy Alcohol Use
DESCRIPTION:
URL:https://oafp.org/event/lunchtime-lecture-bag-of-worms-or-teachable-moment-the-role-of-family-physicians-in-addressing-unhealthy-alcohol-use/
LOCATION:Zoom
CATEGORIES:Free,Lecture,OAFP Events,Virtual,Webinar
ORGANIZER;CN="OAFP":MAILTO:mail@oafp.org
END:VEVENT
BEGIN:VEVENT
DTSTART;TZID=America/Los_Angeles:20200923T120000
DTEND;TZID=America/Los_Angeles:20200923T130000
DTSTAMP:20260423T142613
CREATED:20200721T195027Z
LAST-MODIFIED:20200818T165025Z
UID:1764-1600862400-1600866000@oafp.org
SUMMARY:Webinar: National Diabetes Prevention Program: How Clinics Can Help Patients Prevent Diabetes
DESCRIPTION:How can you help your patients avoid developing diabetes? Join this webinar to learn more about the role your clinic can play. \nClick HERE to register.
URL:https://oafp.org/event/webinar-national-diabetes-prevention-program-how-clinics-can-help-patients-prevent-diabetes/
LOCATION:Webinar
CATEGORIES:Free,Webinar
END:VEVENT
BEGIN:VEVENT
DTSTART;TZID=America/Los_Angeles:20200910T120000
DTEND;TZID=America/Los_Angeles:20200910T130000
DTSTAMP:20260423T142613
CREATED:20200827T012842Z
LAST-MODIFIED:20200904T231207Z
UID:1875-1599739200-1599742800@oafp.org
SUMMARY:Lunchtime Lecture # 1 - Physician Burnout: Causes\, Risks and Remedies
DESCRIPTION:
URL:https://oafp.org/event/lunchtime-lecture/
LOCATION:Zoom
CATEGORIES:Free,Lecture,OAFP Events,Virtual,Webinar
ORGANIZER;CN="OAFP":MAILTO:mail@oafp.org
END:VEVENT
BEGIN:VEVENT
DTSTART;TZID=America/Los_Angeles:20200815T093000
DTEND;TZID=America/Los_Angeles:20200815T130000
DTSTAMP:20260423T142613
CREATED:20200721T193652Z
LAST-MODIFIED:20200730T200600Z
UID:1746-1597483800-1597496400@oafp.org
SUMMARY:Virtual KSA: Care for the Vulnerable Elderly
DESCRIPTION:Because we cancelled the KSA at the Annual Conference in April\, we’re offering the same KSA opportunity via Webinar.  Josh Reagan will offer the same great instruction during this Study Hall in a virtual format.  This activity has been approved for up to 8 AAFP CME credits. \nClick HERE to register now.
URL:https://oafp.org/event/virtual-ksa-care-for-the-vulnerable-elderly/
LOCATION:Webinar
CATEGORIES:CME,OAFP Events,Virtual,Webinar
ORGANIZER;CN="OAFP":MAILTO:mail@oafp.org
END:VEVENT
BEGIN:VEVENT
DTSTART;TZID=America/Los_Angeles:20200812T120000
DTEND;TZID=America/Los_Angeles:20200812T130000
DTSTAMP:20260423T142613
CREATED:20200721T194934Z
LAST-MODIFIED:20200721T194934Z
UID:1762-1597233600-1597237200@oafp.org
SUMMARY:Webinar: How CBOs Can Offer the National Diabetes Prevention Program to their Community Members
DESCRIPTION:Learn how community-based organizations can get paid to deliver the National Diabetes Prevention Program to their community members. \nClick HERE to register.
URL:https://oafp.org/event/webinar-how-cbos-can-offer-the-national-diabetes-prevention-program-to-their-community-members/
LOCATION:Webinar
CATEGORIES:Webinar
END:VEVENT
BEGIN:VEVENT
DTSTART;TZID=America/Los_Angeles:20200730T120000
DTEND;TZID=America/Los_Angeles:20200730T130000
DTSTAMP:20260423T142613
CREATED:20200721T194836Z
LAST-MODIFIED:20200721T194836Z
UID:1760-1596110400-1596114000@oafp.org
SUMMARY:Webinar: COVID-20: A Psychological Crisis
DESCRIPTION:The spread of COVID-19 has disrupted the ecological systems in which children develop\, exacerbating threats to their safety and increasing their vulnerability to future psychopathology. This webinar will cover the impact of the pandemic on the psyche of our youth and their families\, as well as the ways to help them heal in a family context. Medical providers will also learn to apply self-care tools for the sake of their own wellness.  1 CME credit available. \nClick HERE to register.
URL:https://oafp.org/event/webinar-covid-20-a-psychological-crisis/
LOCATION:Webinar
CATEGORIES:CME,COVID-19,Virtual,Webinar
END:VEVENT
BEGIN:VEVENT
DTSTART;TZID=America/Los_Angeles:20200730T120000
DTEND;TZID=America/Los_Angeles:20200730T130000
DTSTAMP:20260423T142613
CREATED:20200721T194704Z
LAST-MODIFIED:20200721T194704Z
UID:1758-1596110400-1596114000@oafp.org
SUMMARY:COVID Information Sessions for Providers
DESCRIPTION:To provide a consistent venue for COVID-19 information sharing\, OHA’s Chief Medical Officer\, Dana Hargunani\, MD\, will host regular information sessions for Oregon health care providers at least two times a month. \nClick HERE to register.
URL:https://oafp.org/event/covid-information-sessions-for-providers/
LOCATION:Webinar
CATEGORIES:COVID-19,Virtual,Webinar
ORGANIZER;CN="Oregon Health Authority":MAILTO:summer.h.boslaugh@dhsoha.state.or.us
END:VEVENT
BEGIN:VEVENT
DTSTART;TZID=America/Los_Angeles:20200709T120000
DTEND;TZID=America/Los_Angeles:20200709T131500
DTSTAMP:20260423T142613
CREATED:20200708T004119Z
LAST-MODIFIED:20200708T004119Z
UID:1731-1594296000-1594300500@oafp.org
SUMMARY:COVID-ECHO Webinar: Vaccine Catch-Up
DESCRIPTION:This webinar will equip you with new ideas for maximizing immunizations and making for up missed opportunities even as the COVID-19 pandemic continues. \nTo register\, create a Connect user account HERE. And then register for COVID ECHO in advance  HERE.  Registration is preferred\, and CME credits are only available with registration at least 24 hours before the event. Or you can join at the time of the event by clicking HERE. CME credits are not available if you join at the time of the event without registering at least 24 hours in advance.
URL:https://oafp.org/event/covid-echo-webinar-vaccine-catch-up/
LOCATION:Webinar
CATEGORIES:COVID-19,Webinar
END:VEVENT
BEGIN:VEVENT
DTSTART;TZID=America/Los_Angeles:20200630T073000
DTEND;TZID=America/Los_Angeles:20200630T083000
DTSTAMP:20260423T142613
CREATED:20200619T171920Z
LAST-MODIFIED:20200619T171949Z
UID:1669-1593502200-1593505800@oafp.org
SUMMARY:Webinar: SBIRT in Telemedicine with Adolescent Patients
DESCRIPTION:SBIRT (Screening\, Brief Intervention\, Referral to Treatment) represents an innovative\, evidence-based approach to addressing substance use with adolescent medical patients. Its core components include: \n\nRegular and universal screening in the medical setting\, regardless of medical complaint.\nUniversal and routine use of validated screening tools.\nConsideration of substance use as a continuum rather than a dichotomous “addicted versus not addicted” judgment.\nUse of patient-centered change talk versus directive\, prescriptive talk.\nFacilitating smooth\, bidirectional transitions between primary care and specialty addiction treatment.\n\nIn response to the COVID-19 pandemic\, providers have dramatically increased their use of telemedicine to care for patients. The SBIRT model\, meanwhile\, has been traditionally implemented in pediatric settings as an in-person workflow that relies on paper-based screening tools. This presentation will explore how clinicians can screen adolescent patients for substance use\, receive reimbursement\, and perform brief interventions via video conferencing. \nLearning Objectives \n\nRecognize the importance of screening adolescents for substance use\nScreen patients for substance use via telemedicine\nPerform brief interventions with patients via telemedicine\n\nClick here to register. \nTarget Audience: Pediatricians\, child health providers\, clinic supervisors\, nurses\, social workers\, behavioral health workers\, and clinic staff \nPresenter: Jim Winkle\, MPH\, has trained hundreds of physicians and clinic team members how to sustainably implement SBIRT workflows into primary care and emergency room settings. Jim has designed clinic tools\, screening forms\, and video demonstrations that have been widely adopted by health professionals around the country. \n1 CME credit available* \nJoint Providership by the Oregon Medical Association. \n*This activity has been planned and implemented in accordance with the accreditation requirements and policies of the Accreditation Council for Continuing Medical Education (ACCME) through the Joint Providership of the Oregon Medical Association (OMA) and Oregon Pediatric Society. The OMA is accredited by the ACCME to provide continuing medical education for physicians. \nThe Oregon Medical Association designated this live activity for a maximum of 1.0 AMA PRA Category 1 Credit(s)™. Physicians should claim only the credit commensurate with the extent of their participation in the activity.
URL:https://oafp.org/event/webinar-sbirt-in-telemedicine-with-adolescent-patients/
LOCATION:Webinar
CATEGORIES:CME,Webinar
END:VEVENT
BEGIN:VEVENT
DTSTART;TZID=America/Los_Angeles:20200618T120000
DTEND;TZID=America/Los_Angeles:20200618T130000
DTSTAMP:20260423T142613
CREATED:20200317T175619Z
LAST-MODIFIED:20200317T175847Z
UID:1237-1592481600-1592485200@oafp.org
SUMMARY:Webinar: Diabetes Prevention Programs - How Clinics Can Help Patients Prevent Diabetes
DESCRIPTION:How can you help your patients avoid developing diabetes? \nJoin this webinar to learn more about the role your clinic can play. \nRegistration: https://attendee.gotowebinar.com/register/1656575200840542477. Audience: Providers\, clinics^\, health systems. \nContact: Sarah Wetherson (sarah.e.wetherson@dhsoha.state.or.us)
URL:https://oafp.org/event/webinar-diabetes-prevention-programs-how-clinics-can-help-patients-prevent-diabetes/
LOCATION:Webinar
CATEGORIES:Webinar
ORGANIZER;CN="Oregon Health Authority":MAILTO:summer.h.boslaugh@dhsoha.state.or.us
END:VEVENT
BEGIN:VEVENT
DTSTART;TZID=America/Los_Angeles:20200521T120000
DTEND;TZID=America/Los_Angeles:20200521T130000
DTSTAMP:20260423T142613
CREATED:20200218T210745Z
LAST-MODIFIED:20200317T175759Z
UID:1081-1590062400-1590066000@oafp.org
SUMMARY:Webinar: Diabetes Prevention Program - How CCOs Can Help Members Prevent Diabetes
DESCRIPTION:Learn how CCOs can engage with partners and utilize their system and resources in diabetes prevention programs. \nRegistration: https://attendee.gotowebinar.com/register/4056865159367849996. \nAudience: CCO chronic disease coordinators and quality improvement staff.
URL:https://oafp.org/event/webinar-diabetes-prevention-program-how-clinics-can-help-patients-prevent-diabetes/
LOCATION:Webinar
CATEGORIES:Webinar
END:VEVENT
BEGIN:VEVENT
DTSTART;TZID=America/Los_Angeles:20200416T120000
DTEND;TZID=America/Los_Angeles:20200416T130000
DTSTAMP:20260423T142613
CREATED:20200218T210557Z
LAST-MODIFIED:20200318T181444Z
UID:1079-1587038400-1587042000@oafp.org
SUMMARY:Webinar: Diabetes Prevention Program - How CBOs Can Offer Diabetes Prevention Programs to their Community Members
DESCRIPTION:Are you in a community-based organization (CBO) that wants to deliver healthy-living training to the people you serve?  Learn how community-based organizations can get paid to deliver diabetes prevention programs to their community members. \nRegister at: https://attendee.gotowebinar.com/register/7415379501503319053. \nAudience: CBO staff involved with or considering diabetes prevention programs.
URL:https://oafp.org/event/webinar-diabetes-prevention-program-how-cbos-can-offer-diabetes-prevention-programs-to-their-community-members/
LOCATION:Webinar
CATEGORIES:Webinar
END:VEVENT
END:VCALENDAR