BEGIN:VCALENDAR
VERSION:2.0
PRODID:-//Oregon Academy of Family Physicians - ECPv6.15.20//NONSGML v1.0//EN
CALSCALE:GREGORIAN
METHOD:PUBLISH
X-WR-CALNAME:Oregon Academy of Family Physicians
X-ORIGINAL-URL:https://oafp.org
X-WR-CALDESC:Events for Oregon Academy of Family Physicians
REFRESH-INTERVAL;VALUE=DURATION:PT1H
X-Robots-Tag:noindex
X-PUBLISHED-TTL:PT1H
BEGIN:VTIMEZONE
TZID:America/Los_Angeles
BEGIN:DAYLIGHT
TZOFFSETFROM:-0800
TZOFFSETTO:-0700
TZNAME:PDT
DTSTART:20190310T100000
END:DAYLIGHT
BEGIN:STANDARD
TZOFFSETFROM:-0700
TZOFFSETTO:-0800
TZNAME:PST
DTSTART:20191103T090000
END:STANDARD
BEGIN:DAYLIGHT
TZOFFSETFROM:-0800
TZOFFSETTO:-0700
TZNAME:PDT
DTSTART:20200308T100000
END:DAYLIGHT
BEGIN:STANDARD
TZOFFSETFROM:-0700
TZOFFSETTO:-0800
TZNAME:PST
DTSTART:20201101T090000
END:STANDARD
BEGIN:DAYLIGHT
TZOFFSETFROM:-0800
TZOFFSETTO:-0700
TZNAME:PDT
DTSTART:20210314T100000
END:DAYLIGHT
BEGIN:STANDARD
TZOFFSETFROM:-0700
TZOFFSETTO:-0800
TZNAME:PST
DTSTART:20211107T090000
END:STANDARD
BEGIN:DAYLIGHT
TZOFFSETFROM:-0800
TZOFFSETTO:-0700
TZNAME:PDT
DTSTART:20220313T100000
END:DAYLIGHT
BEGIN:STANDARD
TZOFFSETFROM:-0700
TZOFFSETTO:-0800
TZNAME:PST
DTSTART:20221106T090000
END:STANDARD
END:VTIMEZONE
BEGIN:VEVENT
DTSTART;TZID=America/Los_Angeles:20210915T073000
DTEND;TZID=America/Los_Angeles:20210915T090000
DTSTAMP:20260423T121956
CREATED:20210907T170308Z
LAST-MODIFIED:20210907T170308Z
UID:2969-1631691000-1631696400@oafp.org
SUMMARY:Virtual Forum - COVID Vaccines for Kids
DESCRIPTION:How are you preparing for the fall/winter rollout of COVID-19 vaccines for kids younger than 12? Join fellow pediatric and family practice providers for virtual peer-to-peer sharing and discussion. \nKristen Dillon\, MD\, FAAFP\, OHA COVID-19 Vaccine Unit Lead\, will answer questions about supply\, billing\, and workflows.
URL:https://oafp.org/event/virtual-forum-covid-vaccines-for-kids-2/
LOCATION:Virtual
CATEGORIES:COVID-19,Discussion,Free,Includes Q & A,Virtual,Webinar
END:VEVENT
BEGIN:VEVENT
DTSTART;TZID=America/Los_Angeles:20210914T120000
DTEND;TZID=America/Los_Angeles:20210914T130000
DTSTAMP:20260423T121956
CREATED:20210907T170137Z
LAST-MODIFIED:20210907T170137Z
UID:2967-1631620800-1631624400@oafp.org
SUMMARY:Virtual Forum - COVID Vaccines for Kids
DESCRIPTION:How are you preparing for the fall/winter rollout of COVID-19 vaccines for kids younger than 12? Join fellow pediatric and family practice providers for virtual peer-to-peer sharing and discussion. \nKristen Dillon\, MD\, FAAFP\, OHA COVID-19 Vaccine Unit Lead\, will answer questions about supply\, billing\, and workflows. \nRegister for the session that best fits your schedule:
URL:https://oafp.org/event/virtual-forum-covid-vaccines-for-kids/
LOCATION:Virtual
CATEGORIES:COVID-19,Discussion,Free,Includes Q & A,Virtual,Webinar
END:VEVENT
BEGIN:VEVENT
DTSTART;TZID=America/Los_Angeles:20210825T120000
DTEND;TZID=America/Los_Angeles:20210825T130000
DTSTAMP:20260423T121956
CREATED:20210517T224046Z
LAST-MODIFIED:20210517T224046Z
UID:2823-1629892800-1629896400@oafp.org
SUMMARY:Webinar - Unhealthy Alcohol Use Screening via Telehealth
DESCRIPTION:Review the impact of COVID-19 on screening for AUD and other mental health disorders. Discuss benefits and limitations to using telehealth to engage patients in screening and intervention. Identify possible workflow approaches for screening during telehealth visits. Review considerations for the future.
URL:https://oafp.org/event/webinar-unhealthy-alcohol-use-screening-via-telehealth-2/
LOCATION:Virtual
CATEGORIES:Free,Virtual,Webinar
END:VEVENT
BEGIN:VEVENT
DTSTART;TZID=America/Los_Angeles:20210812T120000
DTEND;TZID=America/Los_Angeles:20210812T130000
DTSTAMP:20260423T121956
CREATED:20210517T185700Z
LAST-MODIFIED:20210517T220752Z
UID:2750-1628769600-1628773200@oafp.org
SUMMARY:Webinar - Brief Intervention with Unhealthy Alcohol Use
DESCRIPTION:Discuss the drawbacks of a directive style of communication.\nDescribe principles of harm reduction philosophy.\nPerform four steps of a brief intervention.\nDefine OARS communication skills
URL:https://oafp.org/event/webinar-brief-intervention-with-unhealthy-alcohol-use/
LOCATION:Virtual
CATEGORIES:Free,Virtual,Webinar
END:VEVENT
BEGIN:VEVENT
DTSTART;TZID=America/Los_Angeles:20210706T120000
DTEND;TZID=America/Los_Angeles:20210706T130000
DTSTAMP:20260423T121956
CREATED:20210517T185603Z
LAST-MODIFIED:20210517T220629Z
UID:2748-1625572800-1625576400@oafp.org
SUMMARY:Webinar - Unhealthy Alcohol Use Motivational Interviewing
DESCRIPTION:Describe the four elements of Motivational Interviewing (MI). Explain the four processes used to guide conversations. Recognize core interviewing skills used in MI. Recognize and elicit change talk. Describe how to effectively provide information/education.
URL:https://oafp.org/event/webinar-unhealthy-alcohol-use-motivational-interviewing/
LOCATION:Virtual
CATEGORIES:Free,Virtual,Webinar
END:VEVENT
BEGIN:VEVENT
DTSTART;TZID=America/Los_Angeles:20210706T120000
DTEND;TZID=America/Los_Angeles:20210706T130000
DTSTAMP:20260423T121956
CREATED:20210517T185523Z
LAST-MODIFIED:20210517T220132Z
UID:2743-1625572800-1625576400@oafp.org
SUMMARY:Webinar - Unhealthy Alcohol Use SBIRT 101
DESCRIPTION:Understand the overall SBIRT construct and how it differs from typical medical care.\nState the steps in the SBIRT process and how they might differ from setting to setting.\nReview and understand the components of the Oregon CCO SBIRT metric.\nDiscuss the challenges of capturing and reporting SBIRT data.
URL:https://oafp.org/event/webinar-unhealthy-alcohol-use-sbirt-101/
LOCATION:Virtual
CATEGORIES:Free,Virtual,Webinar
END:VEVENT
BEGIN:VEVENT
DTSTART;TZID=America/Los_Angeles:20210629T120000
DTEND;TZID=America/Los_Angeles:20210629T130000
DTSTAMP:20260423T121956
CREATED:20210517T185449Z
LAST-MODIFIED:20210517T214653Z
UID:2732-1624968000-1624971600@oafp.org
SUMMARY:Webinar - Family-centered resources to support well-child visits
DESCRIPTION:This spring\, the Transformation Center partnered with Insight for Action to conduct an environmental scan to identify family-centered resources for OHP parents of young children (ages 3 to 6) to promote their children’s wellness during this unprecedented time. The scan was designed to support CCOs in meeting the OHA CCO incentive metric focused on kindergarten readiness and well-child visits. \nThis webinar will highlight the resources identified through this environmental scan and will feature a walkthrough of a curated spreadsheet of resources CCOs can use to engage with OHP families\, partners and providers.
URL:https://oafp.org/event/webinar-family-centered-resources-to-support-well-child-visits/
LOCATION:Virtual
CATEGORIES:Free,Virtual,Webinar
END:VEVENT
BEGIN:VEVENT
DTSTART;TZID=America/Los_Angeles:20210623T120000
DTEND;TZID=America/Los_Angeles:20210623T130000
DTSTAMP:20260423T121956
CREATED:20210623T190023Z
LAST-MODIFIED:20210517T220345Z
UID:2744-1624449600-1624453200@oafp.org
SUMMARY:Webinar - Unhealthy Alcohol Use Screening via Telehealth
DESCRIPTION:Review the impact of COVID-19 on screening for AUD and other mental health disorders. Discuss benefits and limitations to using telehealth to engage patients in screening and intervention. Identify possible workflow approaches for screening during telehealth visits. Review considerations for the future.
URL:https://oafp.org/event/webinar-unhealthy-alcohol-use-screening-via-telehealth/
LOCATION:Virtual
CATEGORIES:Free,Virtual,Webinar
END:VEVENT
BEGIN:VEVENT
DTSTART;TZID=America/Los_Angeles:20210622T120000
DTEND;TZID=America/Los_Angeles:20210622T130000
DTSTAMP:20260423T121956
CREATED:20210517T185523Z
LAST-MODIFIED:20210517T215722Z
UID:2740-1624363200-1624366800@oafp.org
SUMMARY:Webinar - Diabetes Metric Toolkit
DESCRIPTION:Apply quality improvement frameworks and tools for measurable change in diabetes\, HBA1C poor control and oral health evaluation for adults with diabetes. Join this hour-long live webinar\, led by ORPRN practice facilitators who will walk through how to use the new toolkit in primary care and dental clinical settings and answer your questions. This new toolkit will be available to everyone and has many real-life example improvement projects\, templates and inspiration to conceptualize\, design and implement your own quality improvement projects. The webinar will be recorded\, and the recording will be available after the webinar.
URL:https://oafp.org/event/webinar-diabetes-metric-toolkit/
LOCATION:Virtual
CATEGORIES:Virtual,Webinar
END:VEVENT
BEGIN:VEVENT
DTSTART;TZID=America/Los_Angeles:20210616T120000
DTEND;TZID=America/Los_Angeles:20210616T130000
DTSTAMP:20260423T121956
CREATED:20210517T185453Z
LAST-MODIFIED:20210517T215342Z
UID:2735-1623844800-1623848400@oafp.org
SUMMARY:Webinar - Value-based Payment
DESCRIPTION:VBP and maternity care: What have we learned so far?
URL:https://oafp.org/event/webinar-value-based-payment/
LOCATION:Virtual
CATEGORIES:Free,Webinar
ORGANIZER;CN="Oregon Health Authority":MAILTO:summer.h.boslaugh@dhsoha.state.or.us
END:VEVENT
BEGIN:VEVENT
DTSTART;TZID=America/Los_Angeles:20210607T120000
DTEND;TZID=America/Los_Angeles:20210607T130000
DTSTAMP:20260423T121956
CREATED:20210517T185603Z
LAST-MODIFIED:20210517T220523Z
UID:2746-1623067200-1623070800@oafp.org
SUMMARY:Webinar - MAT for Unhealthy Alcohol Use
DESCRIPTION:Name the pharmaceuticals that have been FDA approved for treatment of alcohol use disorder.\nUnderstand the potential benefits and side effects of medications for alcohol use disorder.\nKnow the number needed to treat (NNT) medications for alcohol use disorder and how they compare with other  typical primary care treatments.
URL:https://oafp.org/event/webinar-mat-for-unhealthy-alcohol-use/
LOCATION:Virtual
CATEGORIES:Free,Virtual,Webinar
END:VEVENT
BEGIN:VEVENT
DTSTART;TZID=America/Los_Angeles:20210602T120000
DTEND;TZID=America/Los_Angeles:20210602T130000
DTSTAMP:20260423T121956
CREATED:20210517T223429Z
LAST-MODIFIED:20210517T223429Z
UID:2815-1622635200-1622638800@oafp.org
SUMMARY:Webinar- Value-based Payment
DESCRIPTION:VBP for behavioral health providers: How do we keep from being left out?
URL:https://oafp.org/event/webinar-value-based-payment-3/
LOCATION:Virtual
CATEGORIES:Free,Virtual,Webinar
ORGANIZER;CN="Oregon Health Authority":MAILTO:summer.h.boslaugh@dhsoha.state.or.us
END:VEVENT
BEGIN:VEVENT
DTSTART;TZID=America/Los_Angeles:20210519T120000
DTEND;TZID=America/Los_Angeles:20210519T130000
DTSTAMP:20260423T121956
CREATED:20210517T223308Z
LAST-MODIFIED:20210517T223308Z
UID:2813-1621425600-1621429200@oafp.org
SUMMARY:Webinar - Value-based Payment
DESCRIPTION:Learnings from COVID-19 and how they may impact the adoption of VBPs
URL:https://oafp.org/event/webinar-value-based-payment-2/
LOCATION:Virtual
CATEGORIES:Free,Virtual,Webinar
ORGANIZER;CN="Oregon Health Authority":MAILTO:summer.h.boslaugh@dhsoha.state.or.us
END:VEVENT
BEGIN:VEVENT
DTSTART;TZID=America/Los_Angeles:20210517T170000
DTEND;TZID=America/Los_Angeles:20210517T180000
DTSTAMP:20260423T121956
CREATED:20210517T185700Z
LAST-MODIFIED:20210517T220948Z
UID:2751-1621270800-1621274400@oafp.org
SUMMARY:Webinar - COVID-19 Vaccination in Adolescents: Updates from the CDC and Implications for Family Physicians
DESCRIPTION:Join AAFP and the CDC Task Force Clinical and Implementation leads to discuss the upcoming FDA and ACIP authorization and recommendation of the Pfizer-BioNTech COVID-19 vaccine for adolescents. \nJoin on Facebook: https://www.facebook.com/familymed/videos \nJoin on YouTube: https://www.youtube.com/user/AAFPmedia \nJoin on Twitter: https://twitter.com/aafp
URL:https://oafp.org/event/webinar-covid-19-vaccination-in-adolescents-updates-from-the-cdc-and-implications-for-family-physicians/
LOCATION:Virtual
CATEGORIES:AAFP Events,COVID-19,Free,Virtual,Webinar
END:VEVENT
BEGIN:VEVENT
DTSTART;VALUE=DATE:20210415
DTEND;VALUE=DATE:20210417
DTSTAMP:20260423T121956
CREATED:20210222T194109Z
LAST-MODIFIED:20210222T194109Z
UID:2463-1618444800-1618617599@oafp.org
SUMMARY:2021 Annual Kinsman Bioethics Conference
DESCRIPTION:This year’s Kinsman Bioethics Conference\, Truth\, Power\, Justice: Bioethics as a Voice for Health Equity\, will be held on Thursday\, April 15 and Friday\, April 16\, from 8:00-1:00PM\, via WebEx. Please register for the conference HERE. \n\nAfter attending this conference\, learners will be able to – \n\nDescribe the role of systemic inequity\, and how it affects people from a range of communities who have experienced bias and adverse health outcomes.\nPrepare effective communication strategies to create inclusivity and equity in the patient-provider relationship.\nExplain the psycho-social impacts of health care disparities on patients and health providers.\n\n\nPlease reach out to Megan Spickerman with any questions. \nClick HERE to view the schedule.
URL:https://oafp.org/event/2021-annual-kinsman-bioethics-conference/
LOCATION:Webex
CATEGORIES:CME,Conference,Webinar
END:VEVENT
BEGIN:VEVENT
DTSTART;VALUE=DATE:20210319
DTEND;VALUE=DATE:20210321
DTSTAMP:20260423T121956
CREATED:20210222T194838Z
LAST-MODIFIED:20210222T200409Z
UID:2472-1616112000-1616284799@oafp.org
SUMMARY:Travel Medicine Livestream
DESCRIPTION:Register before or on March 9th and save up to $50 – www.aafp.org/cme/all/travel-medicine-livestream.html \nPrior to the pandemic\, increasing numbers of people traveled internationally for business and leisure.  When the crisis is past\, this exponential growth in travel will resume\, and these travelers are your patients!  \nWhat were once geographically confined diseases are now no more! Are you ready to manage them when you encounter them? You can be!  \nThis new educational activity has gone through a peer-review process and is strongly case-based/problem-based and emphasizes travel consultations at the domestic family medicine practice. It is aimed to give you practical guidance on travel risk stratification\, disease prevention\, travel immunizations\, counseling families journeying with children or patients having special needs and preexisting medical conditions.   \nTo register and learn more about the program and speakers\, go to www.aafp.org/cme/all/travel-medicine-livestream.html \nThe course has been awarded 12.5 CME Prescribed credits.    \nQuestions? Alex Ivanov – aivanov@aafp.org or Ashley Poole – apoole@aafp.org  
URL:https://oafp.org/event/travel-medicine-livestream/
LOCATION:Webinar
CATEGORIES:AAFP Events,CME,Conference,Virtual,Webinar
END:VEVENT
BEGIN:VEVENT
DTSTART;TZID=America/Los_Angeles:20210224T163000
DTEND;TZID=America/Los_Angeles:20210224T173000
DTSTAMP:20260423T121956
CREATED:20210222T194554Z
LAST-MODIFIED:20210222T194554Z
UID:2468-1614184200-1614187800@oafp.org
SUMMARY:Does My Teen Have an Eating Disorder?
DESCRIPTION:In this webinar\, the focus will be on the behaviors and red flags that parents should look out for with disordered eating. Identify the factors that increase the likelihood of developing an eating disorder and how to best communicate with your teen and health care professionals if there are concerns. The makeup and importance of a collaborative team approach will be discussed\, and helpful resources shared. \nThe featured guest for this webinar is Tania Cuadra. Tania is a Registered Dietitian and Integrative Nutrition Health Coach and currently serves as a clinical dietitian in Acute care and sub acute/long term care at the Center for Rehab and continuing care services in Utica\, NY. She has extensive experience working with adolescents with eating disorders at the Center for Discovery in Menlo Park\, CA\, as part of the team in the Coeducational Adolescent Eating Disorder Treatment and Recovery Program. \nClick HERE to register.
URL:https://oafp.org/event/does-my-teen-have-an-eating-disorder/
LOCATION:Webinar
CATEGORIES:Free,Virtual,Webinar
END:VEVENT
BEGIN:VEVENT
DTSTART;TZID=America/Los_Angeles:20210211T120000
DTEND;TZID=America/Los_Angeles:20210211T130000
DTSTAMP:20260423T121956
CREATED:20210112T181519Z
LAST-MODIFIED:20210112T181731Z
UID:2261-1613044800-1613048400@oafp.org
SUMMARY:Webinar - COVID-19 Information Session for Providers
DESCRIPTION:OHA’s Chief Medical Officer\, Dana Hargunani\, MD will continue the bi-weekly sessions for health care providers. 
URL:https://oafp.org/event/webinar-covid-19-information-session-for-providers-2/
LOCATION:Virtual
CATEGORIES:COVID-19,Free,Virtual,Webinar
ORGANIZER;CN="Oregon Health Authority":MAILTO:summer.h.boslaugh@dhsoha.state.or.us
END:VEVENT
BEGIN:VEVENT
DTSTART;TZID=America/Los_Angeles:20210204T120000
DTEND;TZID=America/Los_Angeles:20210204T131500
DTSTAMP:20260423T121956
CREATED:20210112T181506Z
LAST-MODIFIED:20210112T181747Z
UID:2260-1612440000-1612444500@oafp.org
SUMMARY:ECHO - COVID-19 Response ECHO for Oregon Clincians\, Part 3
DESCRIPTION:This ECHO series runs from January 7 to June 17\, 2021.
URL:https://oafp.org/event/echo-covid-19-response-echo-for-oregon-clincians-part-3-2/
LOCATION:Virtual
CATEGORIES:COVID-19,Free,Virtual,Webinar
END:VEVENT
BEGIN:VEVENT
DTSTART;TZID=America/Los_Angeles:20210127T130000
DTEND;TZID=America/Los_Angeles:20210127T140000
DTSTAMP:20260423T121956
CREATED:20210112T181505Z
LAST-MODIFIED:20210112T181831Z
UID:2258-1611752400-1611756000@oafp.org
SUMMARY:Webinar - COVID-19 Vaccine Safety: A Fireside Chat with CMS\, CDC and Representatives from the Front Line
DESCRIPTION:The CDC and the CMS are hosting fireside chats on vaccine safety in a special series aimed at addressing staff questions and concerns about the new COVID-19 vaccines.
URL:https://oafp.org/event/webinar-covid-19-vaccine-safety-a-fireside-chat-with-cms-cdc-and-representatives-from-the-front-line-3/
LOCATION:Virtual
CATEGORIES:COVID-19,Free,Includes Q & A,Virtual,Webinar
END:VEVENT
BEGIN:VEVENT
DTSTART;TZID=America/Los_Angeles:20210126T133000
DTEND;TZID=America/Los_Angeles:20210126T143000
DTSTAMP:20260423T121956
CREATED:20210112T181505Z
LAST-MODIFIED:20210112T181846Z
UID:2257-1611667800-1611671400@oafp.org
SUMMARY:Webinar - Supporting Health for All through Reinvestment: the Share Initiative
DESCRIPTION:An upcoming webinar will cover all the requirements of the SHARE Initiative\, highlight the reporting templates that will be used to report SHARE Initiative spending\, and serve as an opportunity for CCOs to ask questions about this initiative.
URL:https://oafp.org/event/webinar-supporting-health-for-all-through-reinvestment-the-share-initiative/
LOCATION:Virtual
CATEGORIES:Free,Virtual,Webinar
END:VEVENT
BEGIN:VEVENT
DTSTART;TZID=America/Los_Angeles:20210121T120000
DTEND;TZID=America/Los_Angeles:20210121T131500
DTSTAMP:20260423T121956
CREATED:20210112T181450Z
LAST-MODIFIED:20210112T183017Z
UID:2254-1611230400-1611234900@oafp.org
SUMMARY:ECHO - COVID-19 Response ECHO for Oregon Clincians\, Part 3
DESCRIPTION:This ECHO series runs from January 7 to June 17\, 2021.
URL:https://oafp.org/event/echo-covid-19-response-echo-for-oregon-clincians-part-3/
LOCATION:Virtual
CATEGORIES:COVID-19,Free,Virtual,Webinar
END:VEVENT
BEGIN:VEVENT
DTSTART;TZID=America/Los_Angeles:20210120T130000
DTEND;TZID=America/Los_Angeles:20210120T140000
DTSTAMP:20260423T121956
CREATED:20210112T181450Z
LAST-MODIFIED:20210112T183007Z
UID:2253-1611147600-1611151200@oafp.org
SUMMARY:Webinar - COVID-19 Vaccine Safety: A Fireside Chat with CMS\, CDC and Representatives from the Front Line
DESCRIPTION:The CDC and the CMS are hosting fireside chats on vaccine safety in a special series aimed at addressing staff questions and concerns about the new COVID-19 vaccines.
URL:https://oafp.org/event/webinar-covid-19-vaccine-safety-a-fireside-chat-with-cms-cdc-and-representatives-from-the-front-line-2/
LOCATION:Virtual
CATEGORIES:COVID-19,Free,Includes Q & A,Virtual,Webinar
END:VEVENT
BEGIN:VEVENT
DTSTART;TZID=America/Los_Angeles:20210120T120000
DTEND;TZID=America/Los_Angeles:20210120T130000
DTSTAMP:20260423T121956
CREATED:20210112T181450Z
LAST-MODIFIED:20210112T182953Z
UID:2252-1611144000-1611147600@oafp.org
SUMMARY:Grand Rounds - OHSU Family Medicine: Past\, Present and Future
DESCRIPTION:Join Dr. John Saultz as he reviews the historical milestones for the Family Medicine Department and discusses current challenges in the context of this history.\nWhen it’s time to join\, click HERE.
URL:https://oafp.org/event/grand-rounds-ohsu-family-medicine-past-present-and-future/
LOCATION:Virtual
CATEGORIES:CME,Free,Virtual,Webinar
END:VEVENT
BEGIN:VEVENT
DTSTART;TZID=America/Los_Angeles:20210114T120000
DTEND;TZID=America/Los_Angeles:20210114T130000
DTSTAMP:20260423T121956
CREATED:20210112T181449Z
LAST-MODIFIED:20210112T182940Z
UID:2251-1610625600-1610629200@oafp.org
SUMMARY:Webinar - COVID-19 Information Session for Providers
DESCRIPTION:OHA’s Chief Medical Officer\, Dana Hargunani\, MD will continue the bi-weekly sessions for health care providers. 
URL:https://oafp.org/event/webinar-covid-19-information-session-for-providers/
LOCATION:Virtual
CATEGORIES:COVID-19,Free,Virtual,Webinar
ORGANIZER;CN="Oregon Health Authority":MAILTO:summer.h.boslaugh@dhsoha.state.or.us
END:VEVENT
BEGIN:VEVENT
DTSTART;TZID=America/Los_Angeles:20210113T183000
DTEND;TZID=America/Los_Angeles:20210113T203000
DTSTAMP:20260423T121956
CREATED:20210112T181446Z
LAST-MODIFIED:20210112T182917Z
UID:2249-1610562600-1610569800@oafp.org
SUMMARY:Webinar - Raising Vaccine Rates in a Climnate of Vaccine-Hesitancy
DESCRIPTION:Come and learn about vaccines and earn CME. Keynote presentation and Q & A. Registration closes at 8 am on Wednesday\, January 13. Meeting opens at 6:15 and starts at 6:30.Registration is required.
URL:https://oafp.org/event/webinar-raising-vaccine-rates-in-a-climnate-of-vaccine-hesitancy/
LOCATION:Virtual
CATEGORIES:COVID-19,Free,Includes Q & A,Virtual,Webinar
END:VEVENT
BEGIN:VEVENT
DTSTART;TZID=America/Los_Angeles:20210113T130000
DTEND;TZID=America/Los_Angeles:20210113T140000
DTSTAMP:20260423T121956
CREATED:20210112T181446Z
LAST-MODIFIED:20210112T182907Z
UID:2248-1610542800-1610546400@oafp.org
SUMMARY:Webinar - COVID-19 Vaccine Safety: A Fireside Chat with CMS\, CDC and Representatives from the Front Line
DESCRIPTION:The CDC and the CMS are hosting fireside chats on vaccine safety in a special series aimed at addressing staff questions and concerns about the new COVID-19 vaccines.
URL:https://oafp.org/event/webinar-covid-19-vaccine-safety-a-fireside-chat-with-cms-cdc-and-representatives-from-the-front-line/
LOCATION:Virtual
CATEGORIES:COVID-19,Free,Includes Q & A,Virtual,Webinar
END:VEVENT
BEGIN:VEVENT
DTSTART;TZID=America/Los_Angeles:20210113T101500
DTEND;TZID=America/Los_Angeles:20210113T111500
DTSTAMP:20260423T121956
CREATED:20210112T181446Z
LAST-MODIFIED:20210112T182856Z
UID:2247-1610532900-1610536500@oafp.org
SUMMARY:Webinar - The Emotional Toll of Allocating Resources During COVID-19
DESCRIPTION:How have US clinicians planned for and responded to resource limitation and its emotional toll during the pandemic? Dr. Kate Butler\, a nephrologist and bioethicist at U. Washington SOM\, shares her research results.
URL:https://oafp.org/event/webinar-the-emotional-toll-of-allocating-resources-during-covid-19/
LOCATION:Virtual
CATEGORIES:COVID-19,Free,Virtual,Webinar
END:VEVENT
BEGIN:VEVENT
DTSTART;TZID=America/Los_Angeles:20210112T140000
DTEND;TZID=America/Los_Angeles:20210112T150000
DTSTAMP:20260423T121956
CREATED:20210112T181445Z
LAST-MODIFIED:20210112T181644Z
UID:2246-1610460000-1610463600@oafp.org
SUMMARY:Webinar - Saving Oregon's Ailing Children's Mental Health System
DESCRIPTION:Join the conversation led by policymakers\, mental health professionals\, and survivors on how Oregon’s health care system can better provide for children who suffer from mental health illnesses\, even in our environment of shrinking budget resources.
URL:https://oafp.org/event/webinar-saving-oregons-ailing-childrens-mental-health-system/
LOCATION:Virtual
CATEGORIES:Free,Virtual,Webinar
END:VEVENT
BEGIN:VEVENT
DTSTART;TZID=America/Los_Angeles:20201229T183000
DTEND;TZID=America/Los_Angeles:20201229T193000
DTSTAMP:20260423T121956
CREATED:20201222T194501Z
LAST-MODIFIED:20201222T194606Z
UID:2179-1609266600-1609270200@oafp.org
SUMMARY:Special Joint COVID-19 Vaccine Webinar
DESCRIPTION:Join members from key Oregon medical societies as we hear from Dr. Joe Sullivan\, who is a senior advisor to OHA working on the plans to administer the COVID-19 vaccine. We will share a number of questions with Dr. Sullivan in advance of the webinar\, and will reserve time for Q & A at the end of the session as well.  Registration is required. \nBrought to you by OAFP\, OPS\, Oregon ACP and the OMA.
URL:https://oafp.org/event/special-joint-covid-19-vaccine-webinar/
LOCATION:Zoom
CATEGORIES:COVID-19,Free,Includes Q & A,OAFP Events,Virtual,Webinar
ORGANIZER;CN="OAFP":MAILTO:mail@oafp.org
END:VEVENT
END:VCALENDAR