BEGIN:VCALENDAR
VERSION:2.0
PRODID:-//Oregon Academy of Family Physicians - ECPv6.15.20//NONSGML v1.0//EN
CALSCALE:GREGORIAN
METHOD:PUBLISH
X-WR-CALNAME:Oregon Academy of Family Physicians
X-ORIGINAL-URL:https://oafp.org
X-WR-CALDESC:Events for Oregon Academy of Family Physicians
REFRESH-INTERVAL;VALUE=DURATION:PT1H
X-Robots-Tag:noindex
X-PUBLISHED-TTL:PT1H
BEGIN:VTIMEZONE
TZID:America/Los_Angeles
BEGIN:DAYLIGHT
TZOFFSETFROM:-0800
TZOFFSETTO:-0700
TZNAME:PDT
DTSTART:20230312T100000
END:DAYLIGHT
BEGIN:STANDARD
TZOFFSETFROM:-0700
TZOFFSETTO:-0800
TZNAME:PST
DTSTART:20231105T090000
END:STANDARD
BEGIN:DAYLIGHT
TZOFFSETFROM:-0800
TZOFFSETTO:-0700
TZNAME:PDT
DTSTART:20240310T100000
END:DAYLIGHT
BEGIN:STANDARD
TZOFFSETFROM:-0700
TZOFFSETTO:-0800
TZNAME:PST
DTSTART:20241103T090000
END:STANDARD
BEGIN:DAYLIGHT
TZOFFSETFROM:-0800
TZOFFSETTO:-0700
TZNAME:PDT
DTSTART:20250309T100000
END:DAYLIGHT
BEGIN:STANDARD
TZOFFSETFROM:-0700
TZOFFSETTO:-0800
TZNAME:PST
DTSTART:20251102T090000
END:STANDARD
BEGIN:DAYLIGHT
TZOFFSETFROM:-0800
TZOFFSETTO:-0700
TZNAME:PDT
DTSTART:20260308T100000
END:DAYLIGHT
BEGIN:STANDARD
TZOFFSETFROM:-0700
TZOFFSETTO:-0800
TZNAME:PST
DTSTART:20261101T090000
END:STANDARD
BEGIN:DAYLIGHT
TZOFFSETFROM:-0800
TZOFFSETTO:-0700
TZNAME:PDT
DTSTART:20270314T100000
END:DAYLIGHT
BEGIN:STANDARD
TZOFFSETFROM:-0700
TZOFFSETTO:-0800
TZNAME:PST
DTSTART:20271107T090000
END:STANDARD
END:VTIMEZONE
BEGIN:VEVENT
DTSTART;TZID=America/Los_Angeles:20240917T120000
DTEND;TZID=America/Los_Angeles:20240917T130000
DTSTAMP:20260425T075049
CREATED:20240528T213318Z
LAST-MODIFIED:20240528T213318Z
UID:9297-1726574400-1726578000@oafp.org
SUMMARY:OAFP Lunch & Learn: Top 5 Sports Medicine Topics for the Primary Care Physician
DESCRIPTION:Faculty: Aaron J. Vaughan Frost\, MD \nLearning Objectives: \n\nIdentify common musculoskeletal pathologies that present to primary care.\nReview high-yield clinical exam skills for common musculoskeletal injury.\nDiscuss evidence-based treatment algorithms for common musculoskeletal injury.
URL:https://oafp.org/event/oafp-lunch-learn-top-5-sports-medicine-topics-for-the-primary-care-physician/
LOCATION:Virtual
CATEGORIES:CME,Free,OAFP Events,Virtual,Webinar
ORGANIZER;CN="OAFP":MAILTO:mail@oafp.org
END:VEVENT
BEGIN:VEVENT
DTSTART;TZID=America/Los_Angeles:20260121T120000
DTEND;TZID=America/Los_Angeles:20260121T130000
DTSTAMP:20260425T075049
CREATED:20260107T180909Z
LAST-MODIFIED:20260107T183657Z
UID:14992-1768996800-1769000400@oafp.org
SUMMARY:Lunch and Learn: Resolution Writing for the Family Physician
DESCRIPTION:This virtual lunch-and-learn session will be instructed by Gary M. Plant\, MD\, FAAFP. Attendees can earn up to 1.0 AAFP Prescribed Credits. Register here. \nLearning Objectives: \n1. Participants will be able to define the characteristics of a meaningful resolution for OAFP/AAFP governance work.\n2. Participants will be able to apply their understanding to draft a resolution for an upcoming OAFP or AAFP Congress.\n3. Participants will understand the process for consideration of written resolution.
URL:https://oafp.org/event/oafp-lunch-and-learn-resolution-writing-for-the-family-physician/
CATEGORIES:Webinar
ORGANIZER;CN="OAFP":MAILTO:mail@oafp.org
END:VEVENT
BEGIN:VEVENT
DTSTART;TZID=America/Los_Angeles:20260211T120000
DTEND;TZID=America/Los_Angeles:20260211T130000
DTSTAMP:20260425T075049
CREATED:20260107T181241Z
LAST-MODIFIED:20260107T183912Z
UID:14995-1770811200-1770814800@oafp.org
SUMMARY:Lunch and Learn: Point-of-Care Ultrasound for the Primary Care Provider - A Selection of Cases
DESCRIPTION:The Point-of-Care Ultrasound for the Primary Care Provider – A Selection of Cases webinar will be instructed by Brandon Chase\, MD. Register here. \nLearning Objectives:\n1. Understand basic ultrasound functionality and optimization techniques.\n2. Formulate clinical questions that are appropriate for point-of-care ultrasound.\n3. Be familiar with common (and less common) uses for point-of-care ultrasound in the primary care setting (eg foreign body identification\, IUD placement\, ocular\, musculoskeletal).
URL:https://oafp.org/event/lunch-and-learn-pocus-primer/
CATEGORIES:Webinar
ORGANIZER;CN="OAFP":MAILTO:mail@oafp.org
END:VEVENT
END:VCALENDAR