BEGIN:VCALENDAR
VERSION:2.0
PRODID:-//Oregon Academy of Family Physicians - ECPv6.15.20//NONSGML v1.0//EN
CALSCALE:GREGORIAN
METHOD:PUBLISH
X-ORIGINAL-URL:https://oafp.org
X-WR-CALDESC:Events for Oregon Academy of Family Physicians
REFRESH-INTERVAL;VALUE=DURATION:PT1H
X-Robots-Tag:noindex
X-PUBLISHED-TTL:PT1H
BEGIN:VTIMEZONE
TZID:America/Los_Angeles
BEGIN:DAYLIGHT
TZOFFSETFROM:-0800
TZOFFSETTO:-0700
TZNAME:PDT
DTSTART:20240310T100000
END:DAYLIGHT
BEGIN:STANDARD
TZOFFSETFROM:-0700
TZOFFSETTO:-0800
TZNAME:PST
DTSTART:20241103T090000
END:STANDARD
BEGIN:DAYLIGHT
TZOFFSETFROM:-0800
TZOFFSETTO:-0700
TZNAME:PDT
DTSTART:20250309T100000
END:DAYLIGHT
BEGIN:STANDARD
TZOFFSETFROM:-0700
TZOFFSETTO:-0800
TZNAME:PST
DTSTART:20251102T090000
END:STANDARD
BEGIN:DAYLIGHT
TZOFFSETFROM:-0800
TZOFFSETTO:-0700
TZNAME:PDT
DTSTART:20260308T100000
END:DAYLIGHT
BEGIN:STANDARD
TZOFFSETFROM:-0700
TZOFFSETTO:-0800
TZNAME:PST
DTSTART:20261101T090000
END:STANDARD
END:VTIMEZONE
BEGIN:VEVENT
DTSTART;TZID=America/Los_Angeles:20251122T093000
DTEND;TZID=America/Los_Angeles:20251122T133000
DTSTAMP:20260423T152919
CREATED:20251016T192742Z
LAST-MODIFIED:20251016T192939Z
UID:14002-1763803800-1763818200@oafp.org
SUMMARY:Virtual KSA Study Hall: Care of Older Adults
DESCRIPTION:Saturday\, November 22\n9:30 am to 1:30 pm\nVirtual Activity Led by Dr. Josh Reagan \nCare of Older Adults This activity will focus on diagnosis and management of\ncommon and uncommon medical conditions that occur in older adults.\nTopics also include disease prevention\, rehabilitation\, geriatric psychiatry\, and\nhealth policy and systems issues as they relate to older adults. \n\n\n\n\nThe AAFP has reviewed OAFP Virtual KSA Study Hall: Care of Older Adults and\ndeemed it acceptable for up to 8.00 Knowledge Self-Assessment\, Live AAFP Prescribed credit(s).\nTerm of Approval is from 11/22/2025 to 11/22/2025. Physicians should claim only the credit\ncommensurate with the extent of their participation in the activity.
URL:https://oafp.org/event/virtual-ksa-study-hall-care-of-older-adults/
LOCATION:Virtual
CATEGORIES:CME,Includes Q & A,OAFP,OAFP Events,Virtual
ORGANIZER;CN="OAFP":MAILTO:mail@oafp.org
END:VEVENT
END:VCALENDAR