BEGIN:VCALENDAR
VERSION:2.0
PRODID:-//Oregon Academy of Family Physicians - ECPv6.15.20//NONSGML v1.0//EN
CALSCALE:GREGORIAN
METHOD:PUBLISH
X-ORIGINAL-URL:https://oafp.org
X-WR-CALDESC:Events for Oregon Academy of Family Physicians
REFRESH-INTERVAL;VALUE=DURATION:PT1H
X-Robots-Tag:noindex
X-PUBLISHED-TTL:PT1H
BEGIN:VTIMEZONE
TZID:America/Los_Angeles
BEGIN:DAYLIGHT
TZOFFSETFROM:-0800
TZOFFSETTO:-0700
TZNAME:PDT
DTSTART:20190310T100000
END:DAYLIGHT
BEGIN:STANDARD
TZOFFSETFROM:-0700
TZOFFSETTO:-0800
TZNAME:PST
DTSTART:20191103T090000
END:STANDARD
BEGIN:DAYLIGHT
TZOFFSETFROM:-0800
TZOFFSETTO:-0700
TZNAME:PDT
DTSTART:20200308T100000
END:DAYLIGHT
BEGIN:STANDARD
TZOFFSETFROM:-0700
TZOFFSETTO:-0800
TZNAME:PST
DTSTART:20201101T090000
END:STANDARD
BEGIN:DAYLIGHT
TZOFFSETFROM:-0800
TZOFFSETTO:-0700
TZNAME:PDT
DTSTART:20210314T100000
END:DAYLIGHT
BEGIN:STANDARD
TZOFFSETFROM:-0700
TZOFFSETTO:-0800
TZNAME:PST
DTSTART:20211107T090000
END:STANDARD
BEGIN:DAYLIGHT
TZOFFSETFROM:-0800
TZOFFSETTO:-0700
TZNAME:PDT
DTSTART:20220313T100000
END:DAYLIGHT
BEGIN:STANDARD
TZOFFSETFROM:-0700
TZOFFSETTO:-0800
TZNAME:PST
DTSTART:20221106T090000
END:STANDARD
END:VTIMEZONE
BEGIN:VEVENT
DTSTART;TZID=America/Los_Angeles:20210624T140000
DTEND;TZID=America/Los_Angeles:20210624T150000
DTSTAMP:20260423T153205
CREATED:20210517T222323Z
LAST-MODIFIED:20210517T222348Z
UID:2801-1624543200-1624546800@oafp.org
SUMMARY:REALD Office Hours for Phase 2 Providers
DESCRIPTION:OHA will hold REALD office hours to answer questions from phase 2 providers about Race\, Ethnicity\, Language\, and Disability (REALD) data collection and reporting requirements during health care encounters for COVID-19.
URL:https://oafp.org/event/reald-office-hours-for-phase-2-providers-2/
LOCATION:Virtual
CATEGORIES:Free,Office Hours,Virtual
ORGANIZER;CN="Oregon Health Authority":MAILTO:summer.h.boslaugh@dhsoha.state.or.us
END:VEVENT
BEGIN:VEVENT
DTSTART;TZID=America/Los_Angeles:20210521T140000
DTEND;TZID=America/Los_Angeles:20210521T150000
DTSTAMP:20260423T153205
CREATED:20210517T185449Z
LAST-MODIFIED:20210517T214257Z
UID:2730-1621605600-1621609200@oafp.org
SUMMARY:REALD Office Hours for Phase 2 Providers
DESCRIPTION:OHA will hold REALD office hours to answer questions from phase 2 providers about Race\, Ethnicity\, Language\, and Disability (REALD) data collection and reporting requirements during health care encounters for COVID-19.
URL:https://oafp.org/event/reald-office-hours-for-phase-2-providers/
LOCATION:Virtual
CATEGORIES:COVID-19,Discussion,Free,Office Hours,Virtual
ORGANIZER;CN="Oregon Health Authority":MAILTO:summer.h.boslaugh@dhsoha.state.or.us
END:VEVENT
BEGIN:VEVENT
DTSTART;TZID=America/Los_Angeles:20210126T120000
DTEND;TZID=America/Los_Angeles:20210126T130000
DTSTAMP:20260423T153205
CREATED:20210112T181504Z
LAST-MODIFIED:20210112T181903Z
UID:2256-1611662400-1611666000@oafp.org
SUMMARY:Office Hours - OHA REALD for Phase 1
DESCRIPTION:OHA will be hosting office hours for Phase 1 providers to ask REALD questions. Phase 1 providers are:\nHospitals except for licensed psychiatric hospitals\nHealth care providers within a health system\nHealth care providers working in a federally qualified health center
URL:https://oafp.org/event/office-hours-oha-reald-for-phase-1/
LOCATION:Virtual
CATEGORIES:Discussion,Free,Office Hours,Virtual
ORGANIZER;CN="Oregon Health Authority":MAILTO:summer.h.boslaugh@dhsoha.state.or.us
END:VEVENT
BEGIN:VEVENT
DTSTART;TZID=America/Los_Angeles:20200211T100000
DTEND;TZID=America/Los_Angeles:20200211T120000
DTSTAMP:20260423T153205
CREATED:20200109T195720Z
LAST-MODIFIED:20200109T200420Z
UID:852-1581415200-1581422400@oafp.org
SUMMARY:Office Hours: Direct Contracting Payment Part 2
DESCRIPTION:Click here for more information and registration. \nYou may contact the Direct Contracting Help Desk at DPC@cms.hhs.gov with questions or feedback. For additional information\, please visit the Direct Contracting Model Options webpage at: https://innovation.cms.gov/initiatives/direct-contracting-model-options/. \nAs always\, thank you for your efforts to improve the quality of care to CMS’ beneficiaries and we look forward to working with you to help increase access to care for beneficiaries with complex needs.
URL:https://oafp.org/event/office-hours-direct-contracting-payment-part-2/
CATEGORIES:Office Hours
END:VEVENT
BEGIN:VEVENT
DTSTART;TZID=America/Los_Angeles:20200128T100000
DTEND;TZID=America/Los_Angeles:20200128T120000
DTSTAMP:20260423T153205
CREATED:20200109T195559Z
LAST-MODIFIED:20200109T200511Z
UID:850-1580205600-1580212800@oafp.org
SUMMARY:Office Hours: Direct Contracting Payment Part 1
DESCRIPTION:Click here for more information and registration. \nYou may contact the Direct Contracting Help Desk at DPC@cms.hhs.gov with questions or feedback. For additional information\, please visit the Direct Contracting Model Options webpage at: https://innovation.cms.gov/initiatives/direct-contracting-model-options/. \nAs always\, thank you for your efforts to improve the quality of care to CMS’ beneficiaries and we look forward to working with you to help increase access to care for beneficiaries with complex needs.
URL:https://oafp.org/event/office-hours-direct-contracting-payment-part-1/
CATEGORIES:Office Hours
END:VEVENT
END:VCALENDAR