BEGIN:VCALENDAR
VERSION:2.0
PRODID:-//Oregon Academy of Family Physicians - ECPv6.15.20//NONSGML v1.0//EN
CALSCALE:GREGORIAN
METHOD:PUBLISH
X-ORIGINAL-URL:https://oafp.org
X-WR-CALDESC:Events for Oregon Academy of Family Physicians
REFRESH-INTERVAL;VALUE=DURATION:PT1H
X-Robots-Tag:noindex
X-PUBLISHED-TTL:PT1H
BEGIN:VTIMEZONE
TZID:America/Los_Angeles
BEGIN:DAYLIGHT
TZOFFSETFROM:-0800
TZOFFSETTO:-0700
TZNAME:PDT
DTSTART:20240310T100000
END:DAYLIGHT
BEGIN:STANDARD
TZOFFSETFROM:-0700
TZOFFSETTO:-0800
TZNAME:PST
DTSTART:20241103T090000
END:STANDARD
BEGIN:DAYLIGHT
TZOFFSETFROM:-0800
TZOFFSETTO:-0700
TZNAME:PDT
DTSTART:20250309T100000
END:DAYLIGHT
BEGIN:STANDARD
TZOFFSETFROM:-0700
TZOFFSETTO:-0800
TZNAME:PST
DTSTART:20251102T090000
END:STANDARD
BEGIN:DAYLIGHT
TZOFFSETFROM:-0800
TZOFFSETTO:-0700
TZNAME:PDT
DTSTART:20260308T100000
END:DAYLIGHT
BEGIN:STANDARD
TZOFFSETFROM:-0700
TZOFFSETTO:-0800
TZNAME:PST
DTSTART:20261101T090000
END:STANDARD
END:VTIMEZONE
BEGIN:VEVENT
DTSTART;TZID=America/Los_Angeles:20250207T080000
DTEND;TZID=America/Los_Angeles:20250207T150000
DTSTAMP:20260425T062128
CREATED:20241101T185623Z
LAST-MODIFIED:20241101T190038Z
UID:10675-1738915200-1738940400@oafp.org
SUMMARY:Pregnancy and Substance Use Disorder Learning Series - Day 1
DESCRIPTION:Pregnancy and Substance Use Disorder Learning Series\n\nBreakfast and lunch included\nAttend one or multiple days\nCME available\nFree event\n\nThose who work in medical\, mental health\, substance use\, perinatal\, care coordination\, advocacy\, and leadership spaces are invited to attend. \n\nDay 1 – February 7 – Working Across the Perinatal Landscape\nDay 2 – March 14 – Considering Culture and Community\nDay 3 – April 4 – Care Coordination Across the Continuum\n\nAccreditation: This activity has been planned and implemented in accordance with the accreditation requirements and  policies of the Accreditation Council for Continuing Medical Education (ACCME) through the joint providership of OHSU School of Medicine and CareOregon. The OHSU School of Medicine is accredited by the ACCME to provide\ncontinuing medical education for physicians.\nCredit: OHSU School of Medicine designates this live activity for a maximum of 12.0 AMA PRA Category 1 Credits™. Physicians should claim only the credit commensurate with the extent of their participation in the activity \n 
URL:https://oafp.org/event/pregnancy-and-substance-use-disorder-learning-series-day-1/
LOCATION:The Melody Event Center\, 615 SE Alder St\, Portland\, OR\, United States
CATEGORIES:CME,Conference,Free,Lecture,Training
END:VEVENT
BEGIN:VEVENT
DTSTART;TZID=America/Los_Angeles:20250314T080000
DTEND;TZID=America/Los_Angeles:20250314T150000
DTSTAMP:20260425T062128
CREATED:20241101T185741Z
LAST-MODIFIED:20241101T190010Z
UID:10684-1741939200-1741964400@oafp.org
SUMMARY:Pregnancy and Substance Use Disorder Learning Series - Day 2
DESCRIPTION:Pregnancy and Substance Use Disorder Learning Series\n\nBreakfast and lunch included\nAttend one or multiple days\nCME available\nFree event\n\nThose who work in medical\, mental health\, substance use\, perinatal\, care coordination\, advocacy\, and leadership spaces are invited to attend. \n\nDay 2 – March 14 – Considering Culture and Community\nDay 3 – April 4 – Care Coordination Across the Continuum\n\nAccreditation: This activity has been planned and implemented in accordance with the accreditation requirements and  policies of the Accreditation Council for Continuing Medical Education (ACCME) through the joint providership of OHSU School of Medicine and CareOregon. The OHSU School of Medicine is accredited by the ACCME to provide\ncontinuing medical education for physicians.\nCredit: OHSU School of Medicine designates this live activity for a maximum of 12.0 AMA PRA Category 1 Credits™. Physicians should claim only the credit commensurate with the extent of their participation in the activity \n 
URL:https://oafp.org/event/pregnancy-and-substance-use-disorder-learning-series-day-1-2/
LOCATION:The Melody Event Center\, 615 SE Alder St\, Portland\, OR\, United States
CATEGORIES:CME,Conference,Free,Lecture,Training
END:VEVENT
BEGIN:VEVENT
DTSTART;TZID=America/Los_Angeles:20250404T080000
DTEND;TZID=America/Los_Angeles:20250404T150000
DTSTAMP:20260425T062128
CREATED:20241101T185902Z
LAST-MODIFIED:20241101T185936Z
UID:10687-1743753600-1743778800@oafp.org
SUMMARY:Pregnancy and Substance Use Disorder Learning Series - Day 3
DESCRIPTION:Pregnancy and Substance Use Disorder Learning Series\n\nBreakfast and lunch included\nAttend one or multiple days\nCME available\nFree event\n\nThose who work in medical\, mental health\, substance use\, perinatal\, care coordination\, advocacy\, and leadership spaces are invited to attend. \n\nDay 3 – April 4 – Care Coordination Across the Continuum\n\nAccreditation: This activity has been planned and implemented in accordance with the accreditation requirements and  policies of the Accreditation Council for Continuing Medical Education (ACCME) through the joint providership of OHSU School of Medicine and CareOregon. The OHSU School of Medicine is accredited by the ACCME to provide\ncontinuing medical education for physicians.\nCredit: OHSU School of Medicine designates this live activity for a maximum of 12.0 AMA PRA Category 1 Credits™. Physicians should claim only the credit commensurate with the extent of their participation in the activity \n 
URL:https://oafp.org/event/pregnancy-and-substance-use-disorder-learning-series-day-3/
LOCATION:The Melody Event Center\, 615 SE Alder St\, Portland\, OR\, United States
CATEGORIES:CME,Conference,Free,Lecture,Training
END:VEVENT
END:VCALENDAR