BEGIN:VCALENDAR
VERSION:2.0
PRODID:-//Oregon Academy of Family Physicians - ECPv6.15.20//NONSGML v1.0//EN
CALSCALE:GREGORIAN
METHOD:PUBLISH
X-WR-CALNAME:Oregon Academy of Family Physicians
X-ORIGINAL-URL:https://oafp.org
X-WR-CALDESC:Events for Oregon Academy of Family Physicians
REFRESH-INTERVAL;VALUE=DURATION:PT1H
X-Robots-Tag:noindex
X-PUBLISHED-TTL:PT1H
BEGIN:VTIMEZONE
TZID:America/Los_Angeles
BEGIN:DAYLIGHT
TZOFFSETFROM:-0800
TZOFFSETTO:-0700
TZNAME:PDT
DTSTART:20190310T100000
END:DAYLIGHT
BEGIN:STANDARD
TZOFFSETFROM:-0700
TZOFFSETTO:-0800
TZNAME:PST
DTSTART:20191103T090000
END:STANDARD
BEGIN:DAYLIGHT
TZOFFSETFROM:-0800
TZOFFSETTO:-0700
TZNAME:PDT
DTSTART:20200308T100000
END:DAYLIGHT
BEGIN:STANDARD
TZOFFSETFROM:-0700
TZOFFSETTO:-0800
TZNAME:PST
DTSTART:20201101T090000
END:STANDARD
BEGIN:DAYLIGHT
TZOFFSETFROM:-0800
TZOFFSETTO:-0700
TZNAME:PDT
DTSTART:20210314T100000
END:DAYLIGHT
BEGIN:STANDARD
TZOFFSETFROM:-0700
TZOFFSETTO:-0800
TZNAME:PST
DTSTART:20211107T090000
END:STANDARD
END:VTIMEZONE
BEGIN:VEVENT
DTSTART;TZID=America/Los_Angeles:20200910T120000
DTEND;TZID=America/Los_Angeles:20200910T131500
DTSTAMP:20260423T205450
CREATED:20200701T010922Z
LAST-MODIFIED:20200818T164817Z
UID:1721-1599739200-1599743700@oafp.org
SUMMARY:COVID-19 Response ECHO for Oregon Clinicians\, Part 2
DESCRIPTION:The second series of virtual\, interactive sessions on the COVID-19 virus and the Oregon clinician response is underway.  \nPresented by Oregon ECHO Network\, along with the Oregon Health Authority\, the sessions will provide the latest information on best practices in clinical management\, infection prevention and control\, testing\, and the community public health and delivery of care response. \nA specialist panel\, including public health experts\, infectious disease specialists\, primary care clinicians\, and epidemiologists\, will share up-to-date knowledge and answer questions. There will also be an opportunity for Oregon clinicians to present workflow and other practice situations relating to the pandemic for discussion and recommendations.  \nThe sessions are free and no-cost CME is available.  \nSessions will take place on the 2nd and 4th Thursdays of each month\, June 11 through September 24\, noon – 1:15 p.m. Participation takes place in a virtual meeting space — join from your own computer or cellphone.  \nClick here to register.
URL:https://oafp.org/event/covid-19-response-echo-for-oregon-clinicians-part-2-4/
LOCATION:Virtual Meeting
CATEGORIES:CME,COVID-19,Free,Virtual
END:VEVENT
BEGIN:VEVENT
DTSTART;TZID=America/Los_Angeles:20200910T120000
DTEND;TZID=America/Los_Angeles:20200910T130000
DTSTAMP:20260423T205450
CREATED:20200827T012842Z
LAST-MODIFIED:20200904T231207Z
UID:1875-1599739200-1599742800@oafp.org
SUMMARY:Lunchtime Lecture # 1 - Physician Burnout: Causes\, Risks and Remedies
DESCRIPTION:
URL:https://oafp.org/event/lunchtime-lecture/
LOCATION:Zoom
CATEGORIES:Free,Lecture,OAFP Events,Virtual,Webinar
ORGANIZER;CN="OAFP":MAILTO:mail@oafp.org
END:VEVENT
BEGIN:VEVENT
DTSTART;TZID=America/Los_Angeles:20200827T120000
DTEND;TZID=America/Los_Angeles:20200827T131500
DTSTAMP:20260423T205450
CREATED:20200701T010806Z
LAST-MODIFIED:20200818T164808Z
UID:1719-1598529600-1598534100@oafp.org
SUMMARY:COVID-19 Response ECHO for Oregon Clinicians\, Part 2
DESCRIPTION:The second series of virtual\, interactive sessions on the COVID-19 virus and the Oregon clinician response is underway.  \nPresented by Oregon ECHO Network\, along with the Oregon Health Authority\, the sessions will provide the latest information on best practices in clinical management\, infection prevention and control\, testing\, and the community public health and delivery of care response. \nA specialist panel\, including public health experts\, infectious disease specialists\, primary care clinicians\, and epidemiologists\, will share up-to-date knowledge and answer questions. There will also be an opportunity for Oregon clinicians to present workflow and other practice situations relating to the pandemic for discussion and recommendations.  \nThe sessions are free and no-cost CME is available.  \nSessions will take place on the 2nd and 4th Thursdays of each month\, June 11 through September 24\, noon – 1:15 p.m. Participation takes place in a virtual meeting space — join from your own computer or cellphone.  \nClick here to register.
URL:https://oafp.org/event/covid-19-response-echo-for-oregon-clinicians-part-2-3/
CATEGORIES:CME,COVID-19,Free,Virtual
END:VEVENT
BEGIN:VEVENT
DTSTART;TZID=America/Los_Angeles:20200820T090000
DTEND;TZID=America/Los_Angeles:20200820T120000
DTSTAMP:20260423T205450
CREATED:20200818T164632Z
LAST-MODIFIED:20200818T164632Z
UID:1824-1597914000-1597924800@oafp.org
SUMMARY:2020 Oregon HPV Virtual Summit
DESCRIPTION:The American Cancer Society and OHA Immunization Program are hosting the 2020 Oregon HPV Virtual Summit. Collaborate\, learn\, share best practices and stay informed. This summit is open to all health care providers of any discipline\, public health organizations\, community organizations\, school health workers\, students\, and anyone else with an interest in increasing HPV vaccination rates throughout Oregon. \nWednesday\, August 19 from noon to 3 pm and  Thursday\, August 20 from 9 am to noon. \nClick HERE to register for this free event.
URL:https://oafp.org/event/2020-oregon-hpv-virtual-summit-2/
LOCATION:Virtual
CATEGORIES:Free,Virtual
END:VEVENT
BEGIN:VEVENT
DTSTART;TZID=America/Los_Angeles:20200819T120000
DTEND;TZID=America/Los_Angeles:20200819T150000
DTSTAMP:20260423T205450
CREATED:20200818T164425Z
LAST-MODIFIED:20200818T164800Z
UID:1821-1597838400-1597849200@oafp.org
SUMMARY:2020 Oregon HPV Virtual Summit
DESCRIPTION:The American Cancer Society and OHA Immunization Program are hosting the 2020 Oregon HPV Virtual Summit. Collaborate\, learn\, share best practices and stay informed. This summit is open to all health care providers of any discipline\, public health organizations\, community organizations\, school health workers\, students\, and anyone else with an interest in increasing HPV vaccination rates throughout Oregon. \nWednesday\, August 19 from noon to 3 pm and  Thursday\, August 20 from 9 am to noon. \nClick HERE to register for this free event.
URL:https://oafp.org/event/2020-oregon-hpv-virtual-summit/
LOCATION:Virtual
CATEGORIES:Free,Virtual
END:VEVENT
BEGIN:VEVENT
DTSTART;TZID=America/Los_Angeles:20200819T120000
DTEND;TZID=America/Los_Angeles:20200819T130000
DTSTAMP:20260423T205450
CREATED:20200723T232215Z
LAST-MODIFIED:20200818T164751Z
UID:1773-1597838400-1597842000@oafp.org
SUMMARY:Grand Rounds: Empowering Patients to Make Changes through the Diabetes Prevention Program
DESCRIPTION:OHSU Grand Rounds presentation by Moira Ray\, MD\, MPH \nSupporting patients to make changes to ward off the development of diabetes can start with identification of risk for diabetes and referral to an evidence-based lifestyle change program such as the Diabetes Prevention Program (DPP). During this session\, providers will learn about the DPP\, hear directly from patients on their experiences with the DPP\, and be prepared to refer eligible patients in the future. \nWhen it’s time\, join your Webex meeting here.\nJoin Meeting: https://ohsu.webex.com/ohsu/j.php?MTID=m323aa92b863f99a9bd72af50848a54f7\nMeeting password: Y3Xyuim2qD9 \nPhone (audio only):\n1-206-207-1700 US\n1-503-907-9144 Portland\, OR\nMeeting number (access code): 120 818 2176\nAdditional call-in numbers: https://ohsu.webex.com/ohsu/globalcallin.php \nMobile phone (one-touch):\n206-207-1700\,\,1208182176## \nNeed help? Go to: https://www.ohsu.edu/information-technology/join-webex-online-meeting
URL:https://oafp.org/event/grand-rounds-empowering-patients-to-make-changes-through-the-diabetes-prevention-program/
LOCATION:Webinar
CATEGORIES:Free,Virtual
END:VEVENT
BEGIN:VEVENT
DTSTART;TZID=America/Los_Angeles:20200818T070000
DTEND;TZID=America/Los_Angeles:20200818T080000
DTSTAMP:20260423T205450
CREATED:20200721T194114Z
LAST-MODIFIED:20200818T164739Z
UID:1750-1597734000-1597737600@oafp.org
SUMMARY:OAFP COVID-19 Check-In
DESCRIPTION:This is a series of meetings every two weeks\, on Tuesday mornings at 7:00 am from August 4-September 29. If you register once\, you can attend any of the meetings. We will be opening this up to the general membership as well (that’s why we’re requiring registration\, as a security measure). \nClick HERE to register in advance for this meeting. \nAfter registering\, you will receive a confirmation email containing information about joining the meeting.
URL:https://oafp.org/event/oafp-covid-19-check-in-2/
LOCATION:Virtual Meeting
CATEGORIES:COVID-19,Free,OAFP Events,Virtual
ORGANIZER;CN="OAFP":MAILTO:mail@oafp.org
END:VEVENT
END:VCALENDAR