BEGIN:VCALENDAR
VERSION:2.0
PRODID:-//Oregon Academy of Family Physicians - ECPv6.15.20//NONSGML v1.0//EN
CALSCALE:GREGORIAN
METHOD:PUBLISH
X-ORIGINAL-URL:https://oafp.org
X-WR-CALDESC:Events for Oregon Academy of Family Physicians
REFRESH-INTERVAL;VALUE=DURATION:PT1H
X-Robots-Tag:noindex
X-PUBLISHED-TTL:PT1H
BEGIN:VTIMEZONE
TZID:America/Los_Angeles
BEGIN:DAYLIGHT
TZOFFSETFROM:-0800
TZOFFSETTO:-0700
TZNAME:PDT
DTSTART:20230312T100000
END:DAYLIGHT
BEGIN:STANDARD
TZOFFSETFROM:-0700
TZOFFSETTO:-0800
TZNAME:PST
DTSTART:20231105T090000
END:STANDARD
BEGIN:DAYLIGHT
TZOFFSETFROM:-0800
TZOFFSETTO:-0700
TZNAME:PDT
DTSTART:20240310T100000
END:DAYLIGHT
BEGIN:STANDARD
TZOFFSETFROM:-0700
TZOFFSETTO:-0800
TZNAME:PST
DTSTART:20241103T090000
END:STANDARD
BEGIN:DAYLIGHT
TZOFFSETFROM:-0800
TZOFFSETTO:-0700
TZNAME:PDT
DTSTART:20250309T100000
END:DAYLIGHT
BEGIN:STANDARD
TZOFFSETFROM:-0700
TZOFFSETTO:-0800
TZNAME:PST
DTSTART:20251102T090000
END:STANDARD
END:VTIMEZONE
BEGIN:VEVENT
DTSTART;TZID=America/Los_Angeles:20240216T120000
DTEND;TZID=America/Los_Angeles:20240216T130000
DTSTAMP:20260424T204706
CREATED:20231101T191430Z
LAST-MODIFIED:20240126T212247Z
UID:7974-1708084800-1708088400@oafp.org
SUMMARY:Lunch & Learn: Resolution Writing for the Family Physician
DESCRIPTION:Presented by: Gary M. Plant\, MD\, FAAFP \nLearning Objectives\n1. Participants will be able to define the characteristics of a meaningful resolution for OAFP/AAFP governance work.\n2. Participants will be able to apply their understanding to draft a resolution for an upcoming OAFP or AAFP Congress.\n3. Participants will understand the process for consideration of written resolution. \n\nThe AAFP has reviewed OAFP Lunch and Learn\, and deemed it acceptable for AAFP credit. Term of approval is from 09/19/2023 to 03/19/2024. Physicians should claim only the credit commensurate with the extent of their participation in the activity. \nAAFP Prescribed credit is accepted by the American Medical Association as equivalent to AMA PRA Category 1 credit(s)™ toward the AMA Physician’s Recognition Award. When applying for the AMA PRA\, Prescribed credit earned must be reported as Prescribed\, not as Category 1. \nScroll down for the registration link under the website section.
URL:https://oafp.org/event/lunch-learn-resolution-writing-for-the-family-physician/
LOCATION:Virtual
CATEGORIES:CME,Free,OAFP Events,Virtual,Webinar
ORGANIZER;CN="OAFP":MAILTO:mail@oafp.org
END:VEVENT
END:VCALENDAR