BEGIN:VCALENDAR
VERSION:2.0
PRODID:-//Oregon Academy of Family Physicians - ECPv6.15.20//NONSGML v1.0//EN
CALSCALE:GREGORIAN
METHOD:PUBLISH
X-WR-CALNAME:Oregon Academy of Family Physicians
X-ORIGINAL-URL:https://oafp.org
X-WR-CALDESC:Events for Oregon Academy of Family Physicians
REFRESH-INTERVAL;VALUE=DURATION:PT1H
X-Robots-Tag:noindex
X-PUBLISHED-TTL:PT1H
BEGIN:VTIMEZONE
TZID:America/Los_Angeles
BEGIN:DAYLIGHT
TZOFFSETFROM:-0800
TZOFFSETTO:-0700
TZNAME:PDT
DTSTART:20190310T100000
END:DAYLIGHT
BEGIN:STANDARD
TZOFFSETFROM:-0700
TZOFFSETTO:-0800
TZNAME:PST
DTSTART:20191103T090000
END:STANDARD
BEGIN:DAYLIGHT
TZOFFSETFROM:-0800
TZOFFSETTO:-0700
TZNAME:PDT
DTSTART:20200308T100000
END:DAYLIGHT
BEGIN:STANDARD
TZOFFSETFROM:-0700
TZOFFSETTO:-0800
TZNAME:PST
DTSTART:20201101T090000
END:STANDARD
BEGIN:DAYLIGHT
TZOFFSETFROM:-0800
TZOFFSETTO:-0700
TZNAME:PDT
DTSTART:20210314T100000
END:DAYLIGHT
BEGIN:STANDARD
TZOFFSETFROM:-0700
TZOFFSETTO:-0800
TZNAME:PST
DTSTART:20211107T090000
END:STANDARD
END:VTIMEZONE
BEGIN:VEVENT
DTSTART;TZID=America/Los_Angeles:20200512T070000
DTEND;TZID=America/Los_Angeles:20200512T080000
DTSTAMP:20260423T180554
CREATED:20200511T224100Z
LAST-MODIFIED:20200511T224100Z
UID:1598-1589266800-1589270400@oafp.org
SUMMARY:COVID-19 Open Line
DESCRIPTION:OAFP is holding a weekly open line for members and partners for a COVID-19 related discussion.  Please register here to attend. \n 
URL:https://oafp.org/event/covid-19-open-line/
LOCATION:Zoom
CATEGORIES:COVID-19,OAFP Events,Virtual
ORGANIZER;CN="OAFP":MAILTO:mail@oafp.org
END:VEVENT
BEGIN:VEVENT
DTSTART;TZID=America/Los_Angeles:20200428T070000
DTEND;TZID=America/Los_Angeles:20200428T080000
DTSTAMP:20260423T180554
CREATED:20200318T175600Z
LAST-MODIFIED:20200318T175600Z
UID:1281-1588057200-1588060800@oafp.org
SUMMARY:OAFP Weekly Open Line
DESCRIPTION:We are hosting an open line for COVID-19-related discussion. Feel free to call in to speak with your colleagues\, share information\, and discuss your concerns so that we can determine how to best help you\, our members\, in this crisis. This call will continue weekly until further notice. \nRegister for the calls here: https://zoom.us/meeting/register/tZ0tcOugrzgiaRRyL1Z5stHroe_SnVw-0Q.
URL:https://oafp.org/event/oafp-weekly-open-line-6/
CATEGORIES:COVID-19,OAFP Events
ORGANIZER;CN="OAFP":MAILTO:mail@oafp.org
END:VEVENT
BEGIN:VEVENT
DTSTART;TZID=America/Los_Angeles:20200421T070000
DTEND;TZID=America/Los_Angeles:20200421T080000
DTSTAMP:20260423T180554
CREATED:20200318T175418Z
LAST-MODIFIED:20200406T232334Z
UID:1279-1587452400-1587456000@oafp.org
SUMMARY:OAFP Weekly Open Line
DESCRIPTION:We are hosting an open line for COVID-19-related discussion. Feel free to call in to speak with your colleagues\, share information\, and discuss your concerns so that we can determine how to best help you\, our members\, in this crisis. This call will continue weekly until further notice. \nRegister for the calls here.
URL:https://oafp.org/event/oafp-weekly-open-line-5/
CATEGORIES:COVID-19,OAFP Events
ORGANIZER;CN="OAFP":MAILTO:mail@oafp.org
END:VEVENT
BEGIN:VEVENT
DTSTART;TZID=America/Los_Angeles:20200416T120000
DTEND;TZID=America/Los_Angeles:20200416T133000
DTSTAMP:20260423T180554
CREATED:20200318T181327Z
LAST-MODIFIED:20200318T181327Z
UID:1299-1587038400-1587043800@oafp.org
SUMMARY:Oregon COVID-19 Response ECHO for Clinicians
DESCRIPTION:Join the Oregon ECHO Network\, the Oregon Health Authority\, and County Public Health Officials Thursdays at noon for weekly interactive virtual sessions. Discussion will center on the COVID-19 virus and the Oregon health care community response. \nThe sessions will provide the latest information on best practices in clinical management\, clinical practice safety\, testing\, and the community public health response. \nA specialist panel\, including public health experts\, clinicians\, and epidemiologists\, share up-to-date knowledge and answer questions. There will also be an opportunity for Oregon clinicians to present their own COVID-19 cases for discussion and recommendations. \nSessions will take place on Thursdays\, noon-1:30 pm. Participation takes place in a virtual meeting space — join from your own computer or cellphone. \nRegister here.
URL:https://oafp.org/event/oregon-covid-19-response-echo-for-clinicians-5/
CATEGORIES:COVID-19
END:VEVENT
BEGIN:VEVENT
DTSTART;TZID=America/Los_Angeles:20200415T110000
DTEND;TZID=America/Los_Angeles:20200415T120000
DTSTAMP:20260423T180554
CREATED:20200402T183215Z
LAST-MODIFIED:20200402T184323Z
UID:1371-1586948400-1586952000@oafp.org
SUMMARY:Webinar: Primary Care’s Role in Responding to COVID-19
DESCRIPTION:Learn more about the coronavirus outbreak\, its impact on practices and patients\, and how primary care is responding. This discussion with primary care leaders will address issues spanning primary care capacity\, virtual visits\, and community-based approaches to care in the midst of COVID-19.\n\nAttendees will hear from:\n\nBev Johnson\, President and CEO\, Institute for Patient and Family-Centered Care (Moderator)\nDarilyn Moyer\, MD\, FACP\, FRCP\, FIDSA | Executive Vice President & Chief Executive Officer\, American College of Physicians (Panelist)\nIan Tong\, MD | Chief Medical Officer\, Doctor On Demand (Panelist)\nApril Joy Damian\, PhD\, MSc\, CHPM\, PMP | Associate Director\, Weitzman Institute (Panelist)\n\nClick here to register.
URL:https://oafp.org/event/webinar-primary-cares-role-in-responding-to-covid-19/
LOCATION:Webinar
CATEGORIES:COVID-19,Webinar
END:VEVENT
BEGIN:VEVENT
DTSTART;TZID=America/Los_Angeles:20200414T070000
DTEND;TZID=America/Los_Angeles:20200414T080000
DTSTAMP:20260423T180554
CREATED:20200318T175330Z
LAST-MODIFIED:20200406T232847Z
UID:1277-1586847600-1586851200@oafp.org
SUMMARY:OAFP Weekly Open Line
DESCRIPTION:We are hosting an open line for COVID-19-related discussion. Feel free to call in to speak with your colleagues\, share information\, and discuss your concerns so that we can determine how to best help you\, our members\, in this crisis. This call will continue weekly until further notice. \nRegister for the calls here.
URL:https://oafp.org/event/oafp-weekly-open-line-4/
CATEGORIES:COVID-19,OAFP Events
ORGANIZER;CN="OAFP":MAILTO:mail@oafp.org
END:VEVENT
BEGIN:VEVENT
DTSTART;TZID=America/Los_Angeles:20200409T120000
DTEND;TZID=America/Los_Angeles:20200409T133000
DTSTAMP:20260423T180554
CREATED:20200318T180357Z
LAST-MODIFIED:20200318T181230Z
UID:1287-1586433600-1586439000@oafp.org
SUMMARY:Oregon COVID-19 Response ECHO for Clinicians
DESCRIPTION:Join the Oregon ECHO Network\, the Oregon Health Authority\, and County Public Health Officials Thursdays at noon for weekly interactive virtual sessions. Discussion will center on the COVID-19 virus and the Oregon health care community response. \nThe sessions will provide the latest information on best practices in clinical management\, clinical practice safety\, testing\, and the community public health response. \nA specialist panel\, including public health experts\, clinicians\, and epidemiologists\, share up-to-date knowledge and answer questions. There will also be an opportunity for Oregon clinicians to present their own COVID-19 cases for discussion and recommendations. \nSessions will take place on Thursdays\, noon-1:30 pm. Participation takes place in a virtual meeting space — join from your own computer or cellphone. \nRegister here.
URL:https://oafp.org/event/oregon-covid-19-response-echo-for-clinicians-4/
CATEGORIES:COVID-19
END:VEVENT
BEGIN:VEVENT
DTSTART;TZID=America/Los_Angeles:20200407T070000
DTEND;TZID=America/Los_Angeles:20200407T080000
DTSTAMP:20260423T180554
CREATED:20200318T175135Z
LAST-MODIFIED:20200406T232303Z
UID:1274-1586242800-1586246400@oafp.org
SUMMARY:OAFP Weekly Open Line
DESCRIPTION:We are hosting an open line for COVID-19-related discussion. Feel free to call in to speak with your colleagues\, share information\, and discuss your concerns so that we can determine how to best help you\, our members\, in this crisis. This call will continue weekly until further notice. \nRegister for the calls here.
URL:https://oafp.org/event/oafp-weekly-open-line-3/
CATEGORIES:COVID-19,OAFP Events
ORGANIZER;CN="OAFP":MAILTO:mail@oafp.org
END:VEVENT
BEGIN:VEVENT
DTSTART;VALUE=DATE:20200405
DTEND;VALUE=DATE:20200406
DTSTAMP:20260423T180554
CREATED:20200403T214810Z
LAST-MODIFIED:20200403T215053Z
UID:1384-1586044800-1586131199@oafp.org
SUMMARY:Webinar: Business Continuity During COVID-19
DESCRIPTION:Tune in for an interactive webinar. Time TBA. \nThe discussion will be about a 120-day financial plan which allows physicians to take a deep dive in business continuity planning\, including continuity strategies and government and private financing assistance.
URL:https://oafp.org/event/webinar-business-continuity-during-covid-19/
CATEGORIES:COVID-19,Webinar
END:VEVENT
BEGIN:VEVENT
DTSTART;TZID=America/Los_Angeles:20200402T120000
DTEND;TZID=America/Los_Angeles:20200402T133000
DTSTAMP:20260423T180554
CREATED:20200318T180145Z
LAST-MODIFIED:20200318T181156Z
UID:1285-1585828800-1585834200@oafp.org
SUMMARY:Oregon COVID-19 Response ECHO for Clinicians
DESCRIPTION:Join the Oregon ECHO Network\, the Oregon Health Authority\, and County Public Health Officials Thursdays at noon for weekly interactive virtual sessions. Discussion will center on the COVID-19 virus and the Oregon health care community response. \nThe sessions will provide the latest information on best practices in clinical management\, clinical practice safety\, testing\, and the community public health response. \nA specialist panel\, including public health experts\, clinicians\, and epidemiologists\, share up-to-date knowledge and answer questions. There will also be an opportunity for Oregon clinicians to present their own COVID-19 cases for discussion and recommendations. \nSessions will take place on Thursdays\, noon-1:30 pm. Participation takes place in a virtual meeting space — join from your own computer or cellphone. \nRegister here.
URL:https://oafp.org/event/oregon-covid-19-response-echo-for-clinicians-3/
CATEGORIES:COVID-19
END:VEVENT
BEGIN:VEVENT
DTSTART;TZID=America/Los_Angeles:20200331T070000
DTEND;TZID=America/Los_Angeles:20200331T080000
DTSTAMP:20260423T180554
CREATED:20200318T175032Z
LAST-MODIFIED:20200318T175225Z
UID:1272-1585638000-1585641600@oafp.org
SUMMARY:OAFP Weekly Open Line
DESCRIPTION:We are hosting an open line for COVID-19-related discussion. Feel free to call in to speak with your colleagues\, share information\, and discuss your concerns so that we can determine how to best help you\, our members\, in this crisis. This call will continue weekly until further notice. \nRegister for the calls here: https://zoom.us/meeting/register/tZ0tcOugrzgiaRRyL1Z5stHroe_SnVw-0Q.
URL:https://oafp.org/event/oafp-weekly-open-line-2/
CATEGORIES:COVID-19,OAFP Events
ORGANIZER;CN="OAFP":MAILTO:mail@oafp.org
END:VEVENT
BEGIN:VEVENT
DTSTART;TZID=America/Los_Angeles:20200329T160000
DTEND;TZID=America/Los_Angeles:20200329T160000
DTSTAMP:20260423T180554
CREATED:20200327T194319Z
LAST-MODIFIED:20200327T195747Z
UID:1359-1585497600-1585497600@oafp.org
SUMMARY:COVID-19 Conversations for Clinicians #1: An Emotional Survival Guide
DESCRIPTION:Caring for Clinicians Launches FREE Interactive Webinar Series:  COVID-19 Conversations for Clinicians \nOpen to all health care professionals\, WORLDWIDE \n\nHosted by: Dr. Tina Runyan and Dr. Joan Fleishman\, clinical health psychologists and faculty\, with specialized expertise in supporting health care professionals\nAddressing the unique pressures\, fears\, and demands (both personal and professional) placed on clinicians during the COVID-19 pandemic.\nOffering strategies to cope\, persevere\, and survive each day – with a special focus on sustainability and resilience.\n\nClick here to save your spot.
URL:https://oafp.org/event/covid-19-conversations-for-clinicians-1-an-emotional-survival-guide-2/
LOCATION:Webinar
CATEGORIES:COVID-19,Virtual,Webinar
END:VEVENT
BEGIN:VEVENT
DTSTART;TZID=America/Los_Angeles:20200328T090000
DTEND;TZID=America/Los_Angeles:20200328T090000
DTSTAMP:20260423T180554
CREATED:20200327T194159Z
LAST-MODIFIED:20200327T194159Z
UID:1356-1585386000-1585386000@oafp.org
SUMMARY:COVID-19 Conversations for Clinicians # 1: An Emotional Survival Guide
DESCRIPTION:Caring for Clinicians Launches FREE Interactive Webinar Series:  COVID-19 Conversations for Clinicians \nOpen to all health care professionals\, WORLDWIDE \n\nHosted by: Dr. Tina Runyan and Dr. Joan Fleishman\, clinical health psychologists and faculty\, with specialized expertise in supporting health care professionals\nAddressing the unique pressures\, fears\, and demands (both personal and professional) placed on clinicians during the COVID-19 pandemic.\nOffering strategies to cope\, persevere\, and survive each day – with a special focus on sustainability and resilience.\n\nClick here to save your spot.
URL:https://oafp.org/event/covid-19-conversations-for-clinicians-1-an-emotional-survival-guide/
LOCATION:Webinar
CATEGORIES:COVID-19,Virtual,Webinar
END:VEVENT
BEGIN:VEVENT
DTSTART;TZID=America/Los_Angeles:20200326T120000
DTEND;TZID=America/Los_Angeles:20200326T133000
DTSTAMP:20260423T180554
CREATED:20200318T002401Z
LAST-MODIFIED:20200318T181103Z
UID:1259-1585224000-1585229400@oafp.org
SUMMARY:Oregon COVID-19 Response Echo for Clinicians
DESCRIPTION:Join the Oregon ECHO Network\, the Oregon Health Authority\, and County Public Health Officials for weekly interactive virtual sessions on the COVID-19 virus. \nDiscussion will center around the Oregon health care community response. The sessions will provide the latest information on best practices in clinical management\, clinical practice safety\, testing\, and the community public health response. \nA specialist panel\, including public health experts\, clinicians\, and epidemiologists\, will share up-to-date knowledge and answer questions. There will also be an opportunity for Oregon clinicians to present their own COVID-19 cases for discussion and recommendations. \nSessions will take place on Thursdays\, noon-1:30 pm. Participation takes place in a virtual meeting space — join from your own computer or cellphone. \nRegister here.
URL:https://oafp.org/event/oregon-covid-19-response-echo-for-clinicians-2/
CATEGORIES:COVID-19
END:VEVENT
BEGIN:VEVENT
DTSTART;TZID=America/Los_Angeles:20200324T070000
DTEND;TZID=America/Los_Angeles:20200324T080000
DTSTAMP:20260423T180554
CREATED:20200318T174922Z
LAST-MODIFIED:20200318T175217Z
UID:1270-1585033200-1585036800@oafp.org
SUMMARY:OAFP Weekly Open Line
DESCRIPTION:We are hosting an open line for COVID-19-related discussion. Feel free to call in to speak with your colleagues\, share information\, and discuss your concerns so that we can determine how to best help you\, our members\, in this crisis. This call will continue weekly until further notice. \nRegister for the calls here: https://zoom.us/meeting/register/tZ0tcOugrzgiaRRyL1Z5stHroe_SnVw-0Q.
URL:https://oafp.org/event/oafp-weekly-open-line/
CATEGORIES:COVID-19,OAFP Events
ORGANIZER;CN="OAFP":MAILTO:mail@oafp.org
END:VEVENT
BEGIN:VEVENT
DTSTART;TZID=America/Los_Angeles:20200319T120000
DTEND;TZID=America/Los_Angeles:20200319T133000
DTSTAMP:20260423T180554
CREATED:20200318T002119Z
LAST-MODIFIED:20200318T181023Z
UID:1255-1584619200-1584624600@oafp.org
SUMMARY:Oregon COVID-19 Response Echo for Clinicians
DESCRIPTION:Join the Oregon ECHO Network\, the Oregon Health Authority\, and County Public Health Officials starting Thursday\, March 19\, for weekly interactive virtual sessions on the COVID-19 virus. \nDiscussion will center around the Oregon health care community response. The sessions will provide the latest information on best practices in clinical management\, clinical practice safety\, testing\, and the community public health response. \nA specialist panel\, including public health experts\, clinicians\, and epidemiologists\, share up-to-date knowledge and answer questions. There will also be an opportunity for Oregon clinicians to present their own COVID-19 cases for discussion and recommendations. \nSessions will take place on Thursdays\, noon-1:30 pm. Participation takes place in a virtual meeting space — join from your own computer or cellphone. \nRegister here.
URL:https://oafp.org/event/oregon-covid-19-response-echo-for-clinicians/
LOCATION:Virtual Meeting
CATEGORIES:COVID-19
END:VEVENT
END:VCALENDAR