BEGIN:VCALENDAR
VERSION:2.0
PRODID:-//Oregon Academy of Family Physicians - ECPv6.15.20//NONSGML v1.0//EN
CALSCALE:GREGORIAN
METHOD:PUBLISH
X-ORIGINAL-URL:https://oafp.org
X-WR-CALDESC:Events for Oregon Academy of Family Physicians
REFRESH-INTERVAL;VALUE=DURATION:PT1H
X-Robots-Tag:noindex
X-PUBLISHED-TTL:PT1H
BEGIN:VTIMEZONE
TZID:America/Los_Angeles
BEGIN:DAYLIGHT
TZOFFSETFROM:-0800
TZOFFSETTO:-0700
TZNAME:PDT
DTSTART:20220313T100000
END:DAYLIGHT
BEGIN:STANDARD
TZOFFSETFROM:-0700
TZOFFSETTO:-0800
TZNAME:PST
DTSTART:20221106T090000
END:STANDARD
BEGIN:DAYLIGHT
TZOFFSETFROM:-0800
TZOFFSETTO:-0700
TZNAME:PDT
DTSTART:20230312T100000
END:DAYLIGHT
BEGIN:STANDARD
TZOFFSETFROM:-0700
TZOFFSETTO:-0800
TZNAME:PST
DTSTART:20231105T090000
END:STANDARD
BEGIN:DAYLIGHT
TZOFFSETFROM:-0800
TZOFFSETTO:-0700
TZNAME:PDT
DTSTART:20240310T100000
END:DAYLIGHT
BEGIN:STANDARD
TZOFFSETFROM:-0700
TZOFFSETTO:-0800
TZNAME:PST
DTSTART:20241103T090000
END:STANDARD
END:VTIMEZONE
BEGIN:VEVENT
DTSTART;TZID=America/Los_Angeles:20230601T070000
DTEND;TZID=America/Los_Angeles:20230601T103000
DTSTAMP:20260425T092250
CREATED:20230424T211431Z
LAST-MODIFIED:20230424T211925Z
UID:7220-1685602800-1685615400@oafp.org
SUMMARY:Youth Suicide Assessment in Various Environments for Primary Care Session 2 of 2
DESCRIPTION:This activity has been approved for 8.5 AMA PRA Category 1 Credit(s)™. The planners of this event have disclosed they have no relevant financial relationships with commercial interests. \nInteractive Virtual Class Sessions will be held on: \n(Day 1): Wednesday\, May 31 / 1:00 PM – 4:30 PM \n(Day 2): Thursday\, June 1 / 7:00 AM – 10:30 AM \nParticipants will also complete two recorded webinars independently — one prior to the virtual class sessions and one after. Each webinar will take approximately 1 hour to complete. \nAbout Youth SAVE for Primary Care \nYouth SAVE (Suicide Assessment in Various Environments) equips medical providers with the youth\, equity\, and evidence-based skills and tools to assess and intervene with youth who have thoughts of suicide. As a participant of Youth SAVE\, this training will educate and challenge you to: \n– Understand and apply an equity lens to suicide prevention with youth in medical settings \n– Understand and identify needs\, risks\, resiliency factors\, and challenges related to suicide among youth  \n– Understand and identify needs\, protocols\, and tools related to suicide assessment and intervention among youth in medical settings \n– Conduct suicide assessment and intervention with youth in medical settings \n– Incorporate resiliency factors for the youth and incorporate them into a collaborative safety plan \n– Identify and connect to local resources for support with suicide prevention with youth. \nThe Youth SAVE for Primary Care training consists of 9 hours to be completed by participants over multiple days. The training format is two 3.5-hour virtual class sessions and two 1-hour webinars to be completed independently. The live training uses Zoom\, and we require participants to have their camera on for the duration of virtual class sessions. If this isn’t possible for you during these training dates\, please let us know and we would be happy to place you on our email list to notify you of future Youth SAVE training opportunities. \nIf you are unable to attend both of these dates but are interested in attending a future training\, please email youth.SAVE@oraap.org for updates as more training sessions are scheduled. \nIf you have any questions\, please contact us at Youth.SAVE@oraap.org.
URL:https://oafp.org/event/youth-suicide-assessment-in-various-environments-for-primary-care-session-2-of-2/
LOCATION:Virtual
CATEGORIES:CME,Training,Virtual
END:VEVENT
BEGIN:VEVENT
DTSTART;TZID=America/Los_Angeles:20230608T000000
DTEND;TZID=America/Los_Angeles:20230611T000000
DTSTAMP:20260425T092250
CREATED:20220913T181528Z
LAST-MODIFIED:20220913T181528Z
UID:5363-1686182400-1686441600@oafp.org
SUMMARY:2023 South Carolina AFP Summer Break Away & Annual Assembly
DESCRIPTION:
URL:https://oafp.org/event/2023-south-carolina-afp-summer-break-away-annual-assembly/
CATEGORIES:CME
END:VEVENT
END:VCALENDAR