BEGIN:VCALENDAR
VERSION:2.0
PRODID:-//Oregon Academy of Family Physicians - ECPv6.15.20//NONSGML v1.0//EN
CALSCALE:GREGORIAN
METHOD:PUBLISH
X-ORIGINAL-URL:https://oafp.org
X-WR-CALDESC:Events for Oregon Academy of Family Physicians
REFRESH-INTERVAL;VALUE=DURATION:PT1H
X-Robots-Tag:noindex
X-PUBLISHED-TTL:PT1H
BEGIN:VTIMEZONE
TZID:America/Los_Angeles
BEGIN:DAYLIGHT
TZOFFSETFROM:-0800
TZOFFSETTO:-0700
TZNAME:PDT
DTSTART:20190310T100000
END:DAYLIGHT
BEGIN:STANDARD
TZOFFSETFROM:-0700
TZOFFSETTO:-0800
TZNAME:PST
DTSTART:20191103T090000
END:STANDARD
BEGIN:DAYLIGHT
TZOFFSETFROM:-0800
TZOFFSETTO:-0700
TZNAME:PDT
DTSTART:20200308T100000
END:DAYLIGHT
BEGIN:STANDARD
TZOFFSETFROM:-0700
TZOFFSETTO:-0800
TZNAME:PST
DTSTART:20201101T090000
END:STANDARD
BEGIN:DAYLIGHT
TZOFFSETFROM:-0800
TZOFFSETTO:-0700
TZNAME:PDT
DTSTART:20210314T100000
END:DAYLIGHT
BEGIN:STANDARD
TZOFFSETFROM:-0700
TZOFFSETTO:-0800
TZNAME:PST
DTSTART:20211107T090000
END:STANDARD
BEGIN:DAYLIGHT
TZOFFSETFROM:-0800
TZOFFSETTO:-0700
TZNAME:PDT
DTSTART:20220313T100000
END:DAYLIGHT
BEGIN:STANDARD
TZOFFSETFROM:-0700
TZOFFSETTO:-0800
TZNAME:PST
DTSTART:20221106T090000
END:STANDARD
BEGIN:DAYLIGHT
TZOFFSETFROM:-0800
TZOFFSETTO:-0700
TZNAME:PDT
DTSTART:20230312T100000
END:DAYLIGHT
BEGIN:STANDARD
TZOFFSETFROM:-0700
TZOFFSETTO:-0800
TZNAME:PST
DTSTART:20231105T090000
END:STANDARD
END:VTIMEZONE
BEGIN:VEVENT
DTSTART;TZID=America/Los_Angeles:20221005T080000
DTEND;TZID=America/Los_Angeles:20221008T170000
DTSTAMP:20260423T134100
CREATED:20220912T165623Z
LAST-MODIFIED:20221012T010921Z
UID:5290-1664956800-1665248400@oafp.org
SUMMARY:AAFP Family Medicine Board Review Express® Livestream
DESCRIPTION:29.25 CME
URL:https://oafp.org/event/aafp-family-medicine-board-review-express-livestream/
LOCATION:Virtual
CATEGORIES:AAFP Events,CME
END:VEVENT
BEGIN:VEVENT
DTSTART;VALUE=DATE:20220926
DTEND;VALUE=DATE:20220927
DTSTAMP:20260423T134100
CREATED:20220912T165018Z
LAST-MODIFIED:20221012T010839Z
UID:5286-1664150400-1664236799@oafp.org
SUMMARY:Last Day to Register for AAFP's METRIC
DESCRIPTION:20 CME
URL:https://oafp.org/event/last-day-to-register-for-aafps-metric/
CATEGORIES:AAFP Events
END:VEVENT
BEGIN:VEVENT
DTSTART;VALUE=DATE:20210928
DTEND;VALUE=DATE:20211003
DTSTAMP:20260423T134100
CREATED:20210517T185727Z
LAST-MODIFIED:20210517T221911Z
UID:2756-1632787200-1633219199@oafp.org
SUMMARY:Family Medicine Experience (FMX)
DESCRIPTION:AAFP’s Family Medicine Experience conference is the place for family physicians to earn CME\, get inspired\, and find patient care solutions.
URL:https://oafp.org/event/family-medicine-experience-fmx/
LOCATION:Virtual
CATEGORIES:AAFP Events,CME,Conference
END:VEVENT
BEGIN:VEVENT
DTSTART;VALUE=DATE:20210927
DTEND;VALUE=DATE:20210930
DTSTAMP:20260423T134100
CREATED:20210517T185726Z
LAST-MODIFIED:20210517T222015Z
UID:2755-1632700800-1632959999@oafp.org
SUMMARY:Congress of Delegates
DESCRIPTION:The Congress of Delegates is the Academy’s policy-making body. During the annual meeting\, new officers are elected and members can participate in reference committee hearings.
URL:https://oafp.org/event/congress-of-delegates-2/
LOCATION:Kansas City\, MO
CATEGORIES:AAFP Events,By Invitation,Conference,Meeting
END:VEVENT
BEGIN:VEVENT
DTSTART;VALUE=DATE:20210729
DTEND;VALUE=DATE:20210801
DTSTAMP:20260423T134100
CREATED:20210517T185701Z
LAST-MODIFIED:20210517T222115Z
UID:2754-1627516800-1627775999@oafp.org
SUMMARY:National Conference for Family Medicine Residents & Medical Students
DESCRIPTION:Advance your knowledge\, make connections\, and learn what’s on the horizon for family medicine
URL:https://oafp.org/event/national-conference-for-family-medicine-residents-medical-students/
LOCATION:Virtual
CATEGORIES:AAFP Events,Conference,Meeting,Virtual
END:VEVENT
BEGIN:VEVENT
DTSTART;TZID=America/Los_Angeles:20210517T170000
DTEND;TZID=America/Los_Angeles:20210517T180000
DTSTAMP:20260423T134100
CREATED:20210517T185700Z
LAST-MODIFIED:20210517T220948Z
UID:2751-1621270800-1621274400@oafp.org
SUMMARY:Webinar - COVID-19 Vaccination in Adolescents: Updates from the CDC and Implications for Family Physicians
DESCRIPTION:Join AAFP and the CDC Task Force Clinical and Implementation leads to discuss the upcoming FDA and ACIP authorization and recommendation of the Pfizer-BioNTech COVID-19 vaccine for adolescents. \nJoin on Facebook: https://www.facebook.com/familymed/videos \nJoin on YouTube: https://www.youtube.com/user/AAFPmedia \nJoin on Twitter: https://twitter.com/aafp
URL:https://oafp.org/event/webinar-covid-19-vaccination-in-adolescents-updates-from-the-cdc-and-implications-for-family-physicians/
LOCATION:Virtual
CATEGORIES:AAFP Events,COVID-19,Free,Virtual,Webinar
END:VEVENT
BEGIN:VEVENT
DTSTART;VALUE=DATE:20210319
DTEND;VALUE=DATE:20210321
DTSTAMP:20260423T134100
CREATED:20210222T194838Z
LAST-MODIFIED:20210222T200409Z
UID:2472-1616112000-1616284799@oafp.org
SUMMARY:Travel Medicine Livestream
DESCRIPTION:Register before or on March 9th and save up to $50 – www.aafp.org/cme/all/travel-medicine-livestream.html \nPrior to the pandemic\, increasing numbers of people traveled internationally for business and leisure.  When the crisis is past\, this exponential growth in travel will resume\, and these travelers are your patients!  \nWhat were once geographically confined diseases are now no more! Are you ready to manage them when you encounter them? You can be!  \nThis new educational activity has gone through a peer-review process and is strongly case-based/problem-based and emphasizes travel consultations at the domestic family medicine practice. It is aimed to give you practical guidance on travel risk stratification\, disease prevention\, travel immunizations\, counseling families journeying with children or patients having special needs and preexisting medical conditions.   \nTo register and learn more about the program and speakers\, go to www.aafp.org/cme/all/travel-medicine-livestream.html \nThe course has been awarded 12.5 CME Prescribed credits.    \nQuestions? Alex Ivanov – aivanov@aafp.org or Ashley Poole – apoole@aafp.org  
URL:https://oafp.org/event/travel-medicine-livestream/
LOCATION:Webinar
CATEGORIES:AAFP Events,CME,Conference,Virtual,Webinar
END:VEVENT
BEGIN:VEVENT
DTSTART;TZID=America/Los_Angeles:20201209T160000
DTEND;TZID=America/Los_Angeles:20201209T170000
DTSTAMP:20260423T134100
CREATED:20201201T183145Z
LAST-MODIFIED:20201201T183746Z
UID:2068-1607529600-1607533200@oafp.org
SUMMARY:Webinar - Ethics in Global Health: Exploring Cases in Partnerships and Clinical Care
DESCRIPTION:This is a web-based\, interactive discussion with family medicine physicians with expertise in global health ethics to learn how ethical principles can be used to guide our activities and partnerships.
URL:https://oafp.org/event/webinar-ethics-in-global-health-exploring-cases-in-partnerships-and-clinical-care/
CATEGORIES:AAFP Events,Discussion,Free,Includes Q & A,Virtual
END:VEVENT
BEGIN:VEVENT
DTSTART;TZID=America/Los_Angeles:20201204T130000
DTEND;TZID=America/Los_Angeles:20201204T130000
DTSTAMP:20260423T134100
CREATED:20201201T175833Z
LAST-MODIFIED:20201201T181035Z
UID:2047-1607086800-1607086800@oafp.org
SUMMARY:Webinar - How and Why to Grow Telehealth in Your Practice
DESCRIPTION:This AAFP webinar promises to give participants insights into the current state of telehealth use in family medicine.
URL:https://oafp.org/event/webinar-how-and-why-to-grow-telehealth-in-your-practice/
CATEGORIES:AAFP Events,Free,Webinar
END:VEVENT
BEGIN:VEVENT
DTSTART;TZID=America/Los_Angeles:20200508T170000
DTEND;TZID=America/Los_Angeles:20200508T180000
DTSTAMP:20260423T134100
CREATED:20200409T205127Z
LAST-MODIFIED:20200409T205127Z
UID:1464-1588957200-1588960800@oafp.org
SUMMARY:AAFP Weekly CME Series
DESCRIPTION:The AAFP has launched a new weekly CME series taking place every Friday from 5 to 6 pm PT. Former AAFP Vaccine Science Fellow and CDC Epidemic Intelligence Service Officer Nina Ahmad\, MD\, will be joined by special guests to cover clinical topics and perspectives for COVID-19. Viewers can ask questions live and earn 1 CME credit for participating. \nAttendees can join the webinar by clicking on one of the following social media links: \n\nFacebook(www.facebook.com)\nYouTube(www.youtube.com)\nTwitter(www.twitter.com)\n\nPlease visit AAFP’s CME section on the AAFP COVID-19 resource page regularly as additional educational activities and resources are being added.
URL:https://oafp.org/event/aafp-weekly-cme-series-5/
CATEGORIES:AAFP Events,CME,Virtual
END:VEVENT
BEGIN:VEVENT
DTSTART;TZID=America/Los_Angeles:20200506T170000
DTEND;TZID=America/Los_Angeles:20200506T180000
DTSTAMP:20260423T134100
CREATED:20200409T205532Z
LAST-MODIFIED:20200409T220506Z
UID:1472-1588784400-1588788000@oafp.org
SUMMARY:AAFP Weekly Virtual Town Hall
DESCRIPTION:Hosted by AAFP President Dr. Gary LeRoy and facilitated by Senior Vice President of Health of the Public and Science (HOPS) Dr. Julie Wood\, these meetings will focus on a specific area each week and then open the event for any COVID-19 related questions. \nParticipants can join live on Facebook\,(www.facebook.com) YouTube(www.youtube.com) or Twitter(twitter.com). \nThe sessions will also be available for replay on Thursdays at aafp.org/covid19.
URL:https://oafp.org/event/aafp-weekly-virtual-town-hall-4/
CATEGORIES:AAFP Events,Virtual
END:VEVENT
BEGIN:VEVENT
DTSTART;TZID=America/Los_Angeles:20200501T170000
DTEND;TZID=America/Los_Angeles:20200501T180000
DTSTAMP:20260423T134100
CREATED:20200409T205045Z
LAST-MODIFIED:20200409T205045Z
UID:1462-1588352400-1588356000@oafp.org
SUMMARY:AAFP Weekly CME Series
DESCRIPTION:The AAFP has launched a new weekly CME series taking place every Friday from 5 to 6 pm PT. Former AAFP Vaccine Science Fellow and CDC Epidemic Intelligence Service Officer Nina Ahmad\, MD\, will be joined by special guests to cover clinical topics and perspectives for COVID-19. Viewers can ask questions live and earn 1 CME credit for participating. \nAttendees can join the webinar by clicking on one of the following social media links: \n\nFacebook(www.facebook.com)\nYouTube(www.youtube.com)\nTwitter(www.twitter.com)\n\nPlease visit AAFP’s CME section on the AAFP COVID-19 resource page regularly as additional educational activities and resources are being added.
URL:https://oafp.org/event/aafp-weekly-cme-series-4/
CATEGORIES:AAFP Events,CME,Virtual
END:VEVENT
BEGIN:VEVENT
DTSTART;TZID=America/Los_Angeles:20200429T170000
DTEND;TZID=America/Los_Angeles:20200429T180000
DTSTAMP:20260423T134100
CREATED:20200409T205450Z
LAST-MODIFIED:20200409T205450Z
UID:1470-1588179600-1588183200@oafp.org
SUMMARY:AAFP Weekly Virtual Town Hall
DESCRIPTION:Hosted by AAFP President Dr. Gary LeRoy and facilitated by Senior Vice President of Health of the Public and Science (HOPS) Dr. Julie Wood\, these meetings will focus on a specific area each week and then open the event for any COVID-19 related questions. \nParticipants can join live on Facebook\,(www.facebook.com) YouTube(www.youtube.com) or Twitter(twitter.com). \nThe sessions will also be available for replay on Thursdays at aafp.org/covid19.
URL:https://oafp.org/event/aafp-weekly-virtual-town-hall-3/
CATEGORIES:AAFP Events,Virtual
END:VEVENT
BEGIN:VEVENT
DTSTART;TZID=America/Los_Angeles:20200424T170000
DTEND;TZID=America/Los_Angeles:20200424T180000
DTSTAMP:20260423T134100
CREATED:20200409T204812Z
LAST-MODIFIED:20200409T204812Z
UID:1460-1587747600-1587751200@oafp.org
SUMMARY:AAFP Weekly CME Series
DESCRIPTION:The AAFP has launched a new weekly CME series taking place every Friday from 5 to 6 pm PT. Former AAFP Vaccine Science Fellow and CDC Epidemic Intelligence Service Officer Nina Ahmad\, MD\, will be joined by special guests to cover clinical topics and perspectives for COVID-19. Viewers can ask questions live and earn 1 CME credit for participating. \nAttendees can join the webinar by clicking on one of the following social media links: \n\nFacebook(www.facebook.com)\nYouTube(www.youtube.com)\nTwitter(www.twitter.com)\n\nPlease visit AAFP’s CME section on the AAFP COVID-19 resource page regularly as additional educational activities and resources are being added.
URL:https://oafp.org/event/aafp-weekly-cme-series-3/
CATEGORIES:AAFP Events,CME,Virtual
END:VEVENT
BEGIN:VEVENT
DTSTART;TZID=America/Los_Angeles:20200422T170000
DTEND;TZID=America/Los_Angeles:20200422T180000
DTSTAMP:20260423T134100
CREATED:20200409T205359Z
LAST-MODIFIED:20200409T205359Z
UID:1468-1587574800-1587578400@oafp.org
SUMMARY:AAFP Weekly Virtual Town Hall
DESCRIPTION:Hosted by AAFP President Dr. Gary LeRoy and facilitated by Senior Vice President of Health of the Public and Science (HOPS) Dr. Julie Wood\, these meetings will focus on a specific area each week and then open the event for any COVID-19 related questions. \nParticipants can join live on Facebook\,(www.facebook.com) YouTube(www.youtube.com) or Twitter(twitter.com). \nThe sessions will also be available for replay on Thursdays at aafp.org/covid19.
URL:https://oafp.org/event/aafp-weekly-virtual-town-hall-2/
CATEGORIES:AAFP Events,Virtual
END:VEVENT
BEGIN:VEVENT
DTSTART;TZID=America/Los_Angeles:20200417T170000
DTEND;TZID=America/Los_Angeles:20200417T180000
DTSTAMP:20260423T134100
CREATED:20200409T204728Z
LAST-MODIFIED:20200409T204728Z
UID:1458-1587142800-1587146400@oafp.org
SUMMARY:AAFP Weekly CME Series
DESCRIPTION:The AAFP has launched a new weekly CME series taking place every Friday from 5 to 6 pm PT. Former AAFP Vaccine Science Fellow and CDC Epidemic Intelligence Service Officer Nina Ahmad\, MD\, will be joined by special guests to cover clinical topics and perspectives for COVID-19. Viewers can ask questions live and earn 1 CME credit for participating. \nAttendees can join the webinar by clicking on one of the following social media links: \n\nFacebook(www.facebook.com)\nYouTube(www.youtube.com)\nTwitter(www.twitter.com)\n\nPlease visit AAFP’s CME section on the AAFP COVID-19 resource page regularly as additional educational activities and resources are being added.
URL:https://oafp.org/event/aafp-weekly-cme-series-2/
CATEGORIES:AAFP Events,CME,Virtual
END:VEVENT
BEGIN:VEVENT
DTSTART;TZID=America/Los_Angeles:20200415T170000
DTEND;TZID=America/Los_Angeles:20200415T180000
DTSTAMP:20260423T134100
CREATED:20200409T205318Z
LAST-MODIFIED:20200409T205318Z
UID:1466-1586970000-1586973600@oafp.org
SUMMARY:AAFP Weekly Virtual Town Hall
DESCRIPTION:Hosted by AAFP President Dr. Gary LeRoy and facilitated by Senior Vice President of Health of the Public and Science (HOPS) Dr. Julie Wood\, these meetings will focus on a specific area each week and then open the event for any COVID-19 related questions. \nParticipants can join live on Facebook\,(www.facebook.com) YouTube(www.youtube.com) or Twitter(twitter.com). \nThe sessions will also be available for replay on Thursdays at aafp.org/covid19.
URL:https://oafp.org/event/aafp-weekly-virtual-town-hall/
CATEGORIES:AAFP Events,Virtual
END:VEVENT
BEGIN:VEVENT
DTSTART;TZID=America/Los_Angeles:20200410T170000
DTEND;TZID=America/Los_Angeles:20200410T180000
DTSTAMP:20260423T134100
CREATED:20200409T204632Z
LAST-MODIFIED:20200409T204632Z
UID:1456-1586538000-1586541600@oafp.org
SUMMARY:AAFP Weekly CME Series
DESCRIPTION:The AAFP has launched a new weekly CME series taking place every Friday from 5 to 6 pm PT. Former AAFP Vaccine Science Fellow and CDC Epidemic Intelligence Service Officer Nina Ahmad\, MD\, will be joined by special guests to cover clinical topics and perspectives for COVID-19. Viewers can ask questions live and earn 1 CME credit for participating. \nAttendees can join the webinar by clicking on one of the following social media links: \n\nFacebook(www.facebook.com)\nYouTube(www.youtube.com)\nTwitter(www.twitter.com)\n\nPlease visit AAFP’s CME section on the AAFP COVID-19 resource page regularly as additional educational activities and resources are being added.
URL:https://oafp.org/event/aafp-weekly-cme-series/
CATEGORIES:AAFP Events,CME,Virtual
END:VEVENT
END:VCALENDAR