BEGIN:VCALENDAR
VERSION:2.0
PRODID:-//Oregon Academy of Family Physicians - ECPv6.15.20//NONSGML v1.0//EN
CALSCALE:GREGORIAN
METHOD:PUBLISH
X-ORIGINAL-URL:https://oafp.org
X-WR-CALDESC:Events for Oregon Academy of Family Physicians
REFRESH-INTERVAL;VALUE=DURATION:PT1H
X-Robots-Tag:noindex
X-PUBLISHED-TTL:PT1H
BEGIN:VTIMEZONE
TZID:America/Los_Angeles
BEGIN:DAYLIGHT
TZOFFSETFROM:-0800
TZOFFSETTO:-0700
TZNAME:PDT
DTSTART:20230312T100000
END:DAYLIGHT
BEGIN:STANDARD
TZOFFSETFROM:-0700
TZOFFSETTO:-0800
TZNAME:PST
DTSTART:20231105T090000
END:STANDARD
BEGIN:DAYLIGHT
TZOFFSETFROM:-0800
TZOFFSETTO:-0700
TZNAME:PDT
DTSTART:20240310T100000
END:DAYLIGHT
BEGIN:STANDARD
TZOFFSETFROM:-0700
TZOFFSETTO:-0800
TZNAME:PST
DTSTART:20241103T090000
END:STANDARD
BEGIN:DAYLIGHT
TZOFFSETFROM:-0800
TZOFFSETTO:-0700
TZNAME:PDT
DTSTART:20250309T100000
END:DAYLIGHT
BEGIN:STANDARD
TZOFFSETFROM:-0700
TZOFFSETTO:-0800
TZNAME:PST
DTSTART:20251102T090000
END:STANDARD
END:VTIMEZONE
BEGIN:VEVENT
DTSTART;VALUE=DATE:20240411
DTEND;VALUE=DATE:20240414
DTSTAMP:20260424T174125
CREATED:20231130T180314Z
LAST-MODIFIED:20250312T224454Z
UID:8185-1712793600-1713052799@oafp.org
SUMMARY:2024 Annual Conference
DESCRIPTION:The 2025 Annual Conference can be found here.
URL:https://oafp.org/event/2024-annual-conference/
LOCATION:Crowne Plaza\, 1441 NE 2nd Ave\, Portland\, OR\, 97232
ORGANIZER;CN="OAFP":MAILTO:mail@oafp.org
END:VEVENT
END:VCALENDAR